<?xml version="1.0" encoding="UTF-8" standalone="no"?>
<metadata xml:lang="en">
<idinfo>
<citation>
<citeinfo>
<onlink>withheld</onlink>
<origin>REQUIRED: The name of an organization or individual that developed the data set.</origin>
<pubdate>REQUIRED: The date when the data set is published or otherwise made available for release.</pubdate>
<title>FOREST_COVER_RASTER</title>
<geoform>Fgdb raster digital data</geoform>
</citeinfo>
</citation>
<native>ESRI ArcCatalog 9.3.1.3000</native>
<descript>
<abstract>REQUIRED: A brief narrative summary of the data set.</abstract>
<purpose>REQUIRED: A summary of the intentions with which the data set was developed.</purpose>
</descript>
<timeperd>
<current>REQUIRED: The basis on which the time period of content information is determined.</current>
<timeinfo>
<sngdate>
<caldate>REQUIRED: The year (and optionally month, or month and day) for which the data set corresponds to the ground.</caldate>
</sngdate>
</timeinfo>
</timeperd>
<status>
<progress>REQUIRED: The state of the data set.</progress>
<update>REQUIRED: The frequency with which changes and additions are made to the data set after the initial data set is completed.</update>
</status>
<spdom>
<bounding>
<westbc>-19.001389</westbc>
<eastbc>59.000215</eastbc>
<northbc>43.001389</northbc>
<southbc>-35.000573</southbc>
</bounding>
</spdom>
<accconst>REQUIRED: Restrictions and legal prerequisites for accessing the data set.</accconst>
<useconst>REQUIRED: Restrictions and legal prerequisites for using the data set after access is granted.</useconst>
</idinfo>
<distInfo>
<distributor>
<distorTran>
<onLineSrc>
<linkage>withheld</linkage>
<protocol>Local Area Network</protocol>
<orDesc>002</orDesc>
</onLineSrc>
</distorTran>
<distorFormat>
<formatName>File Geodatabase Raster Dataset</formatName>
</distorFormat>
</distributor>
<distFormat>
<formatName>Raster Dataset</formatName>
</distFormat>
</distInfo>
<dataqual>
<lineage>
<procstep>
<procdesc>Dataset copied.</procdesc>
<srcused>withheld</srcused>
<procdate>20101020</procdate>
<proctime>09232900</proctime>
</procstep>
</lineage>
</dataqual>
<dataIdInfo>
<envirDesc>ESRI ArcCatalog 9.3.1.3000</envirDesc>
<dataLang>
<languageCode country="US" value="en">
</languageCode>
<countryCode value="USA">
</countryCode>
</dataLang>
<idCitation>
<resTitle>Africa_Forest_Cover</resTitle>
<presForm>
<PresFormCd value="011">
</PresFormCd>
</presForm>
</idCitation>
<dataExt>
<geoEle>
<GeoBndBox esriExtentType="search">
<westBL>-2115224.935282</westBL>
<eastBL>6567873.89913</eastBL>
<northBL>5312183.25238</northBL>
<southBL>-4163959.020964</southBL>
<exTypeCode>1</exTypeCode>
</GeoBndBox>
</geoEle>
</dataExt>
<geoBox esriExtentType="decdegrees">
<westBL>-19.001389</westBL>
<eastBL>59.000215</eastBL>
<northBL>43.001389</northBL>
<southBL>-35.000573</southBL>
<exTypeCode>1</exTypeCode>
</geoBox>
<spatRpType>
<SpatRepTypCd value="002">
</SpatRepTypCd>
</spatRpType>
<idPurp>Africa Forest Cover Categories</idPurp>
<idAbs>&lt;DIV STYLE="text-align:Left;"&gt;&lt;DIV&gt;&lt;DIV&gt;&lt;P&gt;&lt;SPAN&gt;Africa Forest Cover Categories&lt;/SPAN&gt;&lt;/P&gt;&lt;/DIV&gt;&lt;/DIV&gt;&lt;/DIV&gt;</idAbs>
<idCredit>RCMRD SERVIR-Africa Team</idCredit>
<searchKeys>
<keyword>Forest</keyword>
<keyword>Vegetation</keyword>
<keyword>Plants</keyword>
<keyword>Biota</keyword>
<keyword>Biodiversity</keyword>
<keyword>Climate</keyword>
<keyword>Environment</keyword>
</searchKeys>
<tpCat>
<TopicCatCd value="002">
</TopicCatCd>
</tpCat>
<tpCat>
<TopicCatCd value="007">
</TopicCatCd>
</tpCat>
<resConst>
<Consts>
<useLimit/>
</Consts>
</resConst>
</dataIdInfo>
<metainfo>
<metstdn>FGDC Content Standards for Digital Geospatial Metadata</metstdn>
<metstdv>FGDC-STD-001-1998</metstdv>
<mettc>local time</mettc>
<metc>
<cntinfo>
<cntorgp>
<cntper>REQUIRED: The person responsible for the metadata information.</cntper>
<cntorg>REQUIRED: The organization responsible for the metadata information.</cntorg>
</cntorgp>
<cntaddr>
<addrtype>REQUIRED: The mailing and/or physical address for the organization or individual.</addrtype>
<city>REQUIRED: The city of the address.</city>
<state>REQUIRED: The state or province of the address.</state>
<postal>REQUIRED: The ZIP or other postal code of the address.</postal>
</cntaddr>
<cntvoice>REQUIRED: The telephone number by which individuals can speak to the organization or individual.</cntvoice>
</cntinfo>
</metc>
<metd>20101108</metd>
</metainfo>
<mdLang>
<languageCode value="en">
</languageCode>
<countryCode value="USA">
</countryCode>
</mdLang>
<mdChar>
<CharSetCd value="004">
</CharSetCd>
</mdChar>
<mdHrLv>
<ScopeCd value="005">
</ScopeCd>
</mdHrLv>
<mdHrLvName>dataset</mdHrLvName>
<distinfo>
<resdesc>Downloadable Data</resdesc>
</distinfo>
<spdoinfo>
<direct>Raster</direct>
<rastinfo>
<rasttype>Pixel</rasttype>
<rowcount>29335</rowcount>
<colcount>26880</colcount>
<vrtcount>1</vrtcount>
<rastxsz Sync="TRUE">323.031951</rastxsz>
<rastysz Sync="TRUE">323.031951</rastysz>
<rastbpp Sync="TRUE">8</rastbpp>
<rastorig Sync="TRUE">Upper Left</rastorig>
<rastcmap Sync="TRUE">FALSE</rastcmap>
<rastcomp Sync="TRUE">LZ77</rastcomp>
<rastband Sync="TRUE">1</rastband>
<rastdtyp Sync="TRUE">pixel codes</rastdtyp>
<rastifor Sync="TRUE">SDR</rastifor>
<rastplyr Sync="TRUE">TRUE</rastplyr>
</rastinfo>
</spdoinfo>
<spref>
<horizsys>
<planar>
<planci>
<plance>row and column</plance>
<plandu>meters</plandu>
<coordrep>
<absres>323.031951</absres>
<ordres>323.031951</ordres>
</coordrep>
</planci>
</planar>
<geodetic>
<horizdn>D_WGS_1984</horizdn>
<ellips>WGS_1984</ellips>
<semiaxis>6378137.000000</semiaxis>
<denflat>298.257224</denflat>
</geodetic>
</horizsys>
</spref>
<refSysInfo>
<RefSystem>
<refSysID>
<identCode code="3857">WGS_1984_Web_Mercator_Auxiliary_Sphere</identCode>
<idCodeSpace>EPSG</idCodeSpace>
<idVersion>7.4.1</idVersion>
</refSysID>
</RefSystem>
</refSysInfo>
<eainfo>
<detailed Name="Africa_Forest_Cover.tif.vat">
<enttyp>
<enttypl>VAT_FOREST_COVER_RASTER</enttypl>
<enttypt Sync="TRUE">Table</enttypt>
<enttypc Sync="TRUE">48</enttypc>
</enttyp>
<attr>
<attrlabl Sync="TRUE">OID</attrlabl>
<attalias Sync="TRUE">OID</attalias>
<attrtype Sync="TRUE">OID</attrtype>
<attwidth Sync="TRUE">4</attwidth>
<atprecis Sync="TRUE">0</atprecis>
<attscale Sync="TRUE">0</attscale>
<attrdef Sync="TRUE">Internal feature number.</attrdef>
<attrdefs Sync="TRUE">Esri</attrdefs>
<attrdomv>
<udom Sync="TRUE">Sequential unique whole numbers that are automatically generated.</udom>
</attrdomv>
</attr>
<attr>
<attrlabl>VALUE</attrlabl>
<attalias Sync="TRUE">VALUE</attalias>
<attrtype Sync="TRUE">Double</attrtype>
<attwidth Sync="TRUE">10</attwidth>
<atprecis Sync="TRUE">10</atprecis>
<attscale Sync="TRUE">0</attscale>
</attr>
<attr>
<attrlabl>COUNT_</attrlabl>
<attalias Sync="TRUE">COUNT_</attalias>
<attrtype Sync="TRUE">Double</attrtype>
<attwidth Sync="TRUE">10</attwidth>
<atprecis Sync="TRUE">10</atprecis>
<attscale Sync="TRUE">0</attscale>
</attr>
</detailed>
</eainfo>
<mdDateSt>20101108</mdDateSt>
<Esri>
<DataProperties>
<itemProps>
<itemName Sync="TRUE">Africa_Forest_Cover.tif</itemName>
<imsContentType export="False">002</imsContentType>
<nativeExtBox>
<westBL Sync="TRUE">-20.488512</westBL>
<eastBL Sync="TRUE">63.960449</eastBL>
<southBL Sync="TRUE">-44.328262</southBL>
<northBL Sync="TRUE">47.833578</northBL>
<exTypeCode Sync="TRUE">1</exTypeCode>
</nativeExtBox>
</itemProps>
<RasterProperties>
<General>
<PixelDepth Sync="TRUE">8</PixelDepth>
<HasColormap Sync="TRUE">FALSE</HasColormap>
<CompressionType Sync="TRUE">LZW</CompressionType>
<NumBands Sync="TRUE">1</NumBands>
<Format Sync="TRUE">TIFF</Format>
<HasPyramids Sync="TRUE">TRUE</HasPyramids>
<SourceType Sync="TRUE">continuous</SourceType>
<PixelType Sync="TRUE">unsigned integer</PixelType>
<NoDataValue Sync="TRUE">255</NoDataValue>
</General>
</RasterProperties>
</DataProperties>
<SyncDate>20150212</SyncDate>
<SyncTime>12202000</SyncTime>
<ModDate>20150212</ModDate>
<ModTime>12251800</ModTime>
<scaleRange>
<minScale>150000000</minScale>
<maxScale>5000</maxScale>
</scaleRange>
<ArcGISFormat>1.0</ArcGISFormat>
<ArcGISProfile>ISO19139</ArcGISProfile>
</Esri>
<spatRepInfo>
<Georect>
<cellGeo>
<CellGeoCd Sync="TRUE" value="002">
</CellGeoCd>
</cellGeo>
<numDims Sync="TRUE">2</numDims>
<tranParaAv Sync="TRUE">1</tranParaAv>
<chkPtAv Sync="TRUE">0</chkPtAv>
<cornerPts>
<pos Sync="TRUE">-20.488512 -44.328262</pos>
</cornerPts>
<cornerPts>
<pos Sync="TRUE">-20.488512 47.833578</pos>
</cornerPts>
<cornerPts>
<pos Sync="TRUE">63.960449 47.833578</pos>
</cornerPts>
<cornerPts>
<pos Sync="TRUE">63.960449 -44.328262</pos>
</cornerPts>
<centerPt>
<pos Sync="TRUE">21.735969 1.752658</pos>
</centerPt>
<axisDimension type="002">
<dimSize Sync="TRUE">26880</dimSize>
<dimResol>
<value Sync="TRUE">0.003142</value>
</dimResol>
</axisDimension>
<axisDimension type="001">
<dimSize Sync="TRUE">29335</dimSize>
<dimResol>
<value Sync="TRUE">0.003142</value>
</dimResol>
</axisDimension>
<ptInPixel>
<PixOrientCd Sync="TRUE" value="001">
</PixOrientCd>
</ptInPixel>
</Georect>
</spatRepInfo>
<contInfo>
<ImgDesc>
<contentTyp>
<ContentTypCd Sync="TRUE" value="001">
</ContentTypCd>
</contentTyp>
<covDim>
<Band>
<dimDescrp Sync="TRUE">Band_1</dimDescrp>
<bitsPerVal Sync="TRUE">8</bitsPerVal>
<maxVal Sync="TRUE">230.000000</maxVal>
<minVal Sync="TRUE">11.000000</minVal>
</Band>
</covDim>
</ImgDesc>
</contInfo>
<mdContact>
<rpIndName>Patrick Kabatha</rpIndName>
<rpOrgName>RCMRD</rpOrgName>
<rpPosName>Data Specialist</rpPosName>
<role>
<RoleCd value="007">
</RoleCd>
</role>
</mdContact>
</metadata>
