<?xml version="1.0" encoding="UTF-8" standalone="no"?>
<metadata xml:lang="en">
<eainfo>
<detailed Name="Africa_Land_Surface.tif.vat">
<enttyp>
<enttypl Sync="TRUE">Africa_Land_Surface.tif.vat</enttypl>
<enttypt Sync="TRUE">Table</enttypt>
<enttypc Sync="TRUE">8</enttypc>
</enttyp>
<attr>
<attrlabl Sync="TRUE">OID</attrlabl>
<attalias Sync="TRUE">OID</attalias>
<attrtype Sync="TRUE">OID</attrtype>
<attwidth Sync="TRUE">4</attwidth>
<atprecis Sync="TRUE">0</atprecis>
<attscale Sync="TRUE">0</attscale>
<attrdef Sync="TRUE">Internal feature number.</attrdef>
<attrdefs Sync="TRUE">Esri</attrdefs>
<attrdomv>
<udom Sync="TRUE">Sequential unique whole numbers that are automatically generated.</udom>
</attrdomv>
</attr>
<attr>
<attrlabl>Value</attrlabl>
<attalias Sync="TRUE">Value</attalias>
<attrtype Sync="TRUE">Double</attrtype>
<attwidth Sync="TRUE">10</attwidth>
<atprecis Sync="TRUE">10</atprecis>
<attscale Sync="TRUE">0</attscale>
</attr>
<attr>
<attrlabl>Count_</attrlabl>
<attalias Sync="TRUE">Count_</attalias>
<attrtype Sync="TRUE">Double</attrtype>
<attwidth Sync="TRUE">19</attwidth>
<atprecis Sync="TRUE">18</atprecis>
<attscale Sync="TRUE">8</attscale>
</attr>
<attr>
<attrlabl>Red</attrlabl>
<attalias Sync="TRUE">Red</attalias>
<attrtype Sync="TRUE">Double</attrtype>
<attwidth Sync="TRUE">19</attwidth>
<atprecis Sync="TRUE">18</atprecis>
<attscale Sync="TRUE">8</attscale>
</attr>
<attr>
<attrlabl>Green</attrlabl>
<attalias Sync="TRUE">Green</attalias>
<attrtype Sync="TRUE">Double</attrtype>
<attwidth Sync="TRUE">19</attwidth>
<atprecis Sync="TRUE">18</atprecis>
<attscale Sync="TRUE">8</attscale>
</attr>
<attr>
<attrlabl>Blue</attrlabl>
<attalias Sync="TRUE">Blue</attalias>
<attrtype Sync="TRUE">Double</attrtype>
<attwidth Sync="TRUE">19</attwidth>
<atprecis Sync="TRUE">18</atprecis>
<attscale Sync="TRUE">8</attscale>
</attr>
<attr>
<attrlabl>Opacity</attrlabl>
<attalias Sync="TRUE">Opacity</attalias>
<attrtype Sync="TRUE">Double</attrtype>
<attwidth Sync="TRUE">19</attwidth>
<atprecis Sync="TRUE">18</atprecis>
<attscale Sync="TRUE">8</attscale>
</attr>
<attr>
<attrlabl>Land_surf_</attrlabl>
<attalias Sync="TRUE">Land_surf_</attalias>
<attrtype Sync="TRUE">String</attrtype>
<attwidth Sync="TRUE">40</attwidth>
<atprecis Sync="TRUE">0</atprecis>
<attscale Sync="TRUE">0</attscale>
</attr>
</detailed>
</eainfo>
<Esri>
<DataProperties>
<itemProps>
<itemName Sync="TRUE">Africa_Land_Surface.tif</itemName>
<nativeExtBox>
<westBL Sync="TRUE">-25.361482</westBL>
<eastBL Sync="TRUE">63.502685</eastBL>
<southBL Sync="TRUE">-46.982806</southBL>
<northBL Sync="TRUE">37.542194</northBL>
<exTypeCode Sync="TRUE">1</exTypeCode>
</nativeExtBox>
<imsContentType Sync="TRUE">002</imsContentType>
</itemProps>
<coordRef>
<type Sync="TRUE">Geographic</type>
<geogcsn Sync="TRUE">GCS_WGS_1984</geogcsn>
<csUnits Sync="TRUE">Angular Unit: Degree (0.017453)</csUnits>
<peXml Sync="TRUE">&lt;GeographicCoordinateSystem xsi:type='typens:GeographicCoordinateSystem' xmlns:xsi='http://www.w3.org/2001/XMLSchema-instance' xmlns:xs='http://www.w3.org/2001/XMLSchema' xmlns:typens='http://www.esri.com/schemas/ArcGIS/10.1'&gt;&lt;WKT&gt;GEOGCS[&amp;quot;GCS_WGS_1984&amp;quot;,DATUM[&amp;quot;D_WGS_1984&amp;quot;,SPHEROID[&amp;quot;WGS_1984&amp;quot;,6378137.0,298.257223563]],PRIMEM[&amp;quot;Greenwich&amp;quot;,0.0],UNIT[&amp;quot;Degree&amp;quot;,0.0174532925199433],AUTHORITY[&amp;quot;EPSG&amp;quot;,4326]]&lt;/WKT&gt;&lt;XOrigin&gt;-400&lt;/XOrigin&gt;&lt;YOrigin&gt;-400&lt;/YOrigin&gt;&lt;XYScale&gt;11258999068426.238&lt;/XYScale&gt;&lt;ZOrigin&gt;-100000&lt;/ZOrigin&gt;&lt;ZScale&gt;10000&lt;/ZScale&gt;&lt;MOrigin&gt;-100000&lt;/MOrigin&gt;&lt;MScale&gt;10000&lt;/MScale&gt;&lt;XYTolerance&gt;8.983152841195215e-009&lt;/XYTolerance&gt;&lt;ZTolerance&gt;0.001&lt;/ZTolerance&gt;&lt;MTolerance&gt;0.001&lt;/MTolerance&gt;&lt;HighPrecision&gt;true&lt;/HighPrecision&gt;&lt;LeftLongitude&gt;-180&lt;/LeftLongitude&gt;&lt;WKID&gt;4326&lt;/WKID&gt;&lt;LatestWKID&gt;4326&lt;/LatestWKID&gt;&lt;/GeographicCoordinateSystem&gt;</peXml>
</coordRef>
<RasterProperties>
<General>
<PixelDepth Sync="TRUE">4</PixelDepth>
<HasColormap Sync="TRUE">TRUE</HasColormap>
<CompressionType Sync="TRUE">LZW</CompressionType>
<NumBands Sync="TRUE">1</NumBands>
<Format Sync="TRUE">TIFF</Format>
<HasPyramids Sync="TRUE">TRUE</HasPyramids>
<SourceType Sync="TRUE">discrete</SourceType>
<PixelType Sync="TRUE">unsigned integer</PixelType>
<NoDataValue Sync="TRUE">15</NoDataValue>
</General>
</RasterProperties>
</DataProperties>
<SyncDate>20150210</SyncDate>
<SyncTime>17253500</SyncTime>
<ModDate>20150210</ModDate>
<ModTime>17253500</ModTime>
<ArcGISFormat>1.0</ArcGISFormat>
<ArcGISProfile>ISO19139</ArcGISProfile>
<scaleRange>
<minScale>150000000</minScale>
<maxScale>5000</maxScale>
</scaleRange>
</Esri>
<mdFileID>{AF1E94F6-3C18-49B3-923F-514AA37F2ED0}</mdFileID>
<mdLang>
<languageCode value="eng">
</languageCode>
<countryCode Sync="TRUE" value="USA">
</countryCode>
</mdLang>
<mdChar>
<CharSetCd value="004">
</CharSetCd>
</mdChar>
<mdHrLv>
<ScopeCd value="014">
</ScopeCd>
</mdHrLv>
<mdHrLvName Sync="TRUE">dataset</mdHrLvName>
<mdContact>
<rpIndName>Eric Kabuchanga</rpIndName>
<rpOrgName>RCMRD</rpOrgName>
<rpPosName>System Developer</rpPosName>
<role>
<RoleCd value="001">
</RoleCd>
</role>
</mdContact>
<mdDateSt Sync="TRUE">20150210</mdDateSt>
<mdStanName>ArcGIS Metadata</mdStanName>
<mdStanVer>1.0</mdStanVer>
<dataIdInfo>
<idCitation>
<resTitle Sync="TRUE">Africa_Land_Surface.tif</resTitle>
<date>
<createDate>2009-09-01T00:00:00</createDate>
</date>
<citRespParty>
<rpIndName>Roger Sayre</rpIndName>
<rpOrgName>U.S. Geological Survey, Geographic Analysis and Monitoring Unit</rpOrgName>
<rpPosName>Senior Scientist</rpPosName>
<role>
<RoleCd value="003">
</RoleCd>
</role>
</citRespParty>
<citRespParty>
<rpIndName>Roger Sayre</rpIndName>
<rpOrgName>U.S. Geological Survey, Geographic Analysis and Monitoring Unit</rpOrgName>
<rpPosName>Senior Scientist</rpPosName>
<role>
<RoleCd value="011">
</RoleCd>
</role>
</citRespParty>
<citRespParty>
<rpIndName>Eric Kabuchanga</rpIndName>
<rpOrgName>RCMRD</rpOrgName>
<rpPosName>System Developer</rpPosName>
<role>
<RoleCd value="005">
</RoleCd>
</role>
</citRespParty>
<presForm>
<PresFormCd Sync="TRUE" value="005">
</PresFormCd>
</presForm>
</idCitation>
<idAbs>The land surface forms were identified using the method developed by the Missouri Resource Assessment Partnership (MoRAP). The MoRAP method is an automated land surface form classification based on Hammond's (1964a, 1964b) classification. MoRAP made modifications to Hammond's classification, which allowed finer-resolution elevation data to be used as input data and analyses to be made using 1 km2 moving window (True, 2002; True et al., 2000). While Hammond's methodology was based on three variables, slope, local relief, and profile type, MoRAP's methodology uses only slope and local relief (True, 2002). Slope is classified as gently sloping or not gently sloping using a threshold value of 8%. Local relief, the difference between the maximum and minimum elevation in a 1km2 neighborhood for analysis, is classified into five classes (0-15m, 16-30m, 31-90m, 91-150m, and &gt;150m). Slope classes and relief classes were subsequently combined to produce eight land surface form classes (flat plains, smooth plains, irregular plains, escarpments, low hills, hills, breaks/foothills, and low mountains). In the implementation for the contiguous United States, Sayre et al. (2009) further refined the MoRAP methodology to identify a new land surface form class, "high mountains/deep canyons", by using an additional local relief class (&gt;400 m). This method was implemented for Africa using a void-filled 90m SRTM elevation dataset which was created from the 30m SRTM elevation data provided by the National Geospatial-Intelligence Agency. In the preliminary output, which had nine land surface form classes (flat plains, smooth plains, irregular plains, escarpments, low hills, hills, breaks/foothills, and low mountains, and high mountains/deep canyons), artifacts were identified over flat desert areas affecting the classification between the two lowest relief classes, "flat plains" and "smooth plains." Since this problem was especially pronounced in areas where the input SRTM elevation data originally had data-voids, the problem could have been caused by anomalies or artifacts in the input data, which resulted from the void-filling processes. Instead of further investigating causes of the problem, the two land surface form classes were combined. In addition, the "low hills" class which had a very low occurrence was combined with the "hills" class. As a result, seven land surface form classes were identified in the final dataset (smooth plains, irregular plains, escarpments, hills, breaks/foothills, low mountains, and high mountains/deep canyons). References: Hammond, E.H., 1964a. Analysis of Properties in Land Form Geography - An Application to Broad-Scale Land Form Mapping. Annals of the Association of American Geographers, v. 54, no. 1, p. 11-19. Hammond, E.H. 1964b. Classes of land surface form in the forty-eight states, U.S.A. Annals of the Association of American Geographers. 54(1): map supplement no. 4, 1: 5,000,000. Sayre, R., P. Comer, H. Warner, and J. Cress. 2009. A new map of standardized terrestrial ecosystems of the conterminous United States: U. S. Geological Survey professional Paper 1768, 17 p. True, D. 2002. Landforms of the Lower Mid-West. Missouri Resource Assessment Partnership. MoRAP Map Series MS-2003-001, scale 1:1,500,000. &lt;http://www.cerc.usgs.gov/morap/Assets/maps/Landforms_of_the_Lower_Mid-West_MS-2002-01.pdf&gt;. True, D., T. Gordon, and D. Diamond. 2000. How the size of a sliding window impacts the generation of landforms. Missouri Resources Assessment Partnership. &lt;http://www.cerc.cr.usgs.gov/morap/projects/landform_model/landforms2001_files/frame.htm&gt;.</idAbs>
<svType>
<genericName>urn:x-esri:specification:ServiceType:ArcIMS</genericName>
</svType>
<dataExt>
<geoEle>
<GeoBndBox>
<westBL>-20.0977</westBL>
<eastBL>53.7305</eastBL>
<southBL>-38.291</southBL>
<northBL>38.3496</northBL>
</GeoBndBox>
</geoEle>
</dataExt>
<svOper>
<svOpName>USGS Land Surface Forms</svOpName>
<svParams>
<svRepeat>false</svRepeat>
</svParams>
<svConPt>
<linkage>http://servir.rcmrd.org/ArcGIS/rest/services/Base_Services/Ecosys/MapServer/3</linkage>
</svConPt>
</svOper>
<envirDesc Sync="TRUE"> Version 6.2 (Build 9200) ; Esri ArcGIS 10.2.2.3552</envirDesc>
<dataLang>
<languageCode Sync="TRUE" value="eng">
</languageCode>
<countryCode Sync="TRUE" value="USA">
</countryCode>
</dataLang>
<spatRpType>
<SpatRepTypCd Sync="TRUE" value="002">
</SpatRepTypCd>
</spatRpType>
<dataExt>
<geoEle>
<GeoBndBox esriExtentType="search">
<exTypeCode Sync="TRUE">1</exTypeCode>
<westBL Sync="TRUE">-25.361482</westBL>
<eastBL Sync="TRUE">63.502685</eastBL>
<northBL Sync="TRUE">37.542194</northBL>
<southBL Sync="TRUE">-46.982806</southBL>
</GeoBndBox>
</geoEle>
</dataExt>
<idPurp>Africa Land Surface Forms</idPurp>
<idCredit>RCMRD-SERVIR Africa Team</idCredit>
<searchKeys>
<keyword>Land</keyword>
<keyword>Surface</keyword>
<keyword>Plains</keyword>
<keyword>Escarpments</keyword>
<keyword>Mountains</keyword>
<keyword>Hills</keyword>
</searchKeys>
<graphOver>
<bgFileName>withheld</bgFileName>
<bgFileDesc>thumbnail</bgFileDesc>
<bgFileType>small</bgFileType>
</graphOver>
<resConst>
<Consts>
<useLimit>Public Domain</useLimit>
</Consts>
</resConst>
</dataIdInfo>
<distInfo>
<distFormat>
<formatName Sync="TRUE">Raster Dataset</formatName>
</distFormat>
</distInfo>
<refSysInfo>
<RefSystem>
<refSysID>
<identCode Sync="TRUE" code="4326">
</identCode>
<idCodeSpace Sync="TRUE">EPSG</idCodeSpace>
<idVersion Sync="TRUE">8.2.6</idVersion>
</refSysID>
</RefSystem>
</refSysInfo>
<spatRepInfo>
<Georect>
<cellGeo>
<CellGeoCd Sync="TRUE" value="002">
</CellGeoCd>
</cellGeo>
<numDims Sync="TRUE">2</numDims>
<tranParaAv Sync="TRUE">1</tranParaAv>
<chkPtAv Sync="TRUE">0</chkPtAv>
<cornerPts>
<pos Sync="TRUE">-25.361482 -46.982806</pos>
</cornerPts>
<cornerPts>
<pos Sync="TRUE">-25.361482 37.542194</pos>
</cornerPts>
<cornerPts>
<pos Sync="TRUE">63.502685 37.542194</pos>
</cornerPts>
<cornerPts>
<pos Sync="TRUE">63.502685 -46.982806</pos>
</cornerPts>
<centerPt>
<pos Sync="TRUE">19.070601 -4.720306</pos>
</centerPt>
<axisDimension type="002">
<dimSize Sync="TRUE">106637</dimSize>
<dimResol>
<value Sync="TRUE" uom="Degree">0.000833</value>
</dimResol>
</axisDimension>
<axisDimension type="001">
<dimSize Sync="TRUE">101430</dimSize>
<dimResol>
<value Sync="TRUE" uom="Degree">0.000833</value>
</dimResol>
</axisDimension>
<ptInPixel>
<PixOrientCd Sync="TRUE" value="001">
</PixOrientCd>
</ptInPixel>
</Georect>
</spatRepInfo>
<contInfo>
<ImgDesc>
<contentTyp>
<ContentTypCd Sync="TRUE" value="002">
</ContentTypCd>
</contentTyp>
<covDim>
<Band>
<dimDescrp Sync="TRUE">Band_1</dimDescrp>
<maxVal Sync="TRUE">7.000000</maxVal>
<minVal Sync="TRUE">0.000000</minVal>
<bitsPerVal Sync="TRUE">4</bitsPerVal>
<valUnit>
<UOM type="length">
</UOM>
</valUnit>
</Band>
</covDim>
</ImgDesc>
</contInfo>
<MetaID>AF1E94F6-3C18-49B3-923F-514AA37F2ED0</MetaID>
</metadata>
