{
 "currentVersion": 11.5,
 "serviceDescription": "The land surface forms were identified using the method developed by the Missouri Resource Assessment Partnership (MoRAP). The MoRAP method is an automated land surface form classification based on Hammond's (1964a, 1964b) classification. MoRAP made modifications to Hammond's classification, which allowed finer-resolution elevation data to be used as input data and analyses to be made using 1 km2 moving window (True, 2002; True et al., 2000). While Hammond's methodology was based on three variables, slope, local relief, and profile type, MoRAP's methodology uses only slope and local relief (True, 2002). Slope is classified as gently sloping or not gently sloping using a threshold value of 8%. Local relief, the difference between the maximum and minimum elevation in a 1km2 neighborhood for analysis, is classified into five classes (0-15m, 16-30m, 31-90m, 91-150m, and >150m). Slope classes and relief classes were subsequently combined to produce eight land surface form classes (flat plains, smooth plains, irregular plains, escarpments, low hills, hills, breaks/foothills, and low mountains). In the implementation for the contiguous United States, Sayre et al. (2009) further refined the MoRAP methodology to identify a new land surface form class, \"high mountains/deep canyons\", by using an additional local relief class (>400 m). This method was implemented for Africa using a void-filled 90m SRTM elevation dataset which was created from the 30m SRTM elevation data provided by the National Geospatial-Intelligence Agency. In the preliminary output, which had nine land surface form classes (flat plains, smooth plains, irregular plains, escarpments, low hills, hills, breaks/foothills, and low mountains, and high mountains/deep canyons), artifacts were identified over flat desert areas affecting the classification between the two lowest relief classes, \"flat plains\" and \"smooth plains.\" Since this problem was especially pronounced in areas where the input SRTM elevation data originally had data-voids, the problem could have been caused by anomalies or artifacts in the input data, which resulted from the void-filling processes. Instead of further investigating causes of the problem, the two land surface form classes were combined. In addition, the \"low hills\" class which had a very low occurrence was combined with the \"hills\" class. As a result, seven land surface form classes were identified in the final dataset (smooth plains, irregular plains, escarpments, hills, breaks/foothills, low mountains, and high mountains/deep canyons). References: Hammond, E.H., 1964a. Analysis of Properties in Land Form Geography - An Application to Broad-Scale Land Form Mapping. Annals of the Association of American Geographers, v. 54, no. 1, p. 11-19. Hammond, E.H. 1964b. Classes of land surface form in the forty-eight states, U.S.A. Annals of the Association of American Geographers. 54(1): map supplement no. 4, 1: 5,000,000. Sayre, R., P. Comer, H. Warner, and J. Cress. 2009. A new map of standardized terrestrial ecosystems of the conterminous United States: U. S. Geological Survey professional Paper 1768, 17 p. True, D. 2002. Landforms of the Lower Mid-West. Missouri Resource Assessment Partnership. MoRAP Map Series MS-2003-001, scale 1:1,500,000. . True, D., T. Gordon, and D. Diamond. 2000. How the size of a sliding window impacts the generation of landforms. Missouri Resources Assessment Partnership. .",
 "serviceItemId": "20a038a82a944742b036d562877e88fb",
 "name": "Africa/Africa_Land_Surface",
 "description": "The land surface forms were identified using the method developed by the Missouri Resource Assessment Partnership (MoRAP). The MoRAP method is an automated land surface form classification based on Hammond's (1964a, 1964b) classification. MoRAP made modifications to Hammond's classification, which allowed finer-resolution elevation data to be used as input data and analyses to be made using 1 km2 moving window (True, 2002; True et al., 2000). While Hammond's methodology was based on three variables, slope, local relief, and profile type, MoRAP's methodology uses only slope and local relief (True, 2002). Slope is classified as gently sloping or not gently sloping using a threshold value of 8%. Local relief, the difference between the maximum and minimum elevation in a 1km2 neighborhood for analysis, is classified into five classes (0-15m, 16-30m, 31-90m, 91-150m, and >150m). Slope classes and relief classes were subsequently combined to produce eight land surface form classes (flat plains, smooth plains, irregular plains, escarpments, low hills, hills, breaks/foothills, and low mountains). In the implementation for the contiguous United States, Sayre et al. (2009) further refined the MoRAP methodology to identify a new land surface form class, \"high mountains/deep canyons\", by using an additional local relief class (>400 m). This method was implemented for Africa using a void-filled 90m SRTM elevation dataset which was created from the 30m SRTM elevation data provided by the National Geospatial-Intelligence Agency. In the preliminary output, which had nine land surface form classes (flat plains, smooth plains, irregular plains, escarpments, low hills, hills, breaks/foothills, and low mountains, and high mountains/deep canyons), artifacts were identified over flat desert areas affecting the classification between the two lowest relief classes, \"flat plains\" and \"smooth plains.\" Since this problem was especially pronounced in areas where the input SRTM elevation data originally had data-voids, the problem could have been caused by anomalies or artifacts in the input data, which resulted from the void-filling processes. Instead of further investigating causes of the problem, the two land surface form classes were combined. In addition, the \"low hills\" class which had a very low occurrence was combined with the \"hills\" class. As a result, seven land surface form classes were identified in the final dataset (smooth plains, irregular plains, escarpments, hills, breaks/foothills, low mountains, and high mountains/deep canyons). References: Hammond, E.H., 1964a. Analysis of Properties in Land Form Geography - An Application to Broad-Scale Land Form Mapping. Annals of the Association of American Geographers, v. 54, no. 1, p. 11-19. Hammond, E.H. 1964b. Classes of land surface form in the forty-eight states, U.S.A. Annals of the Association of American Geographers. 54(1): map supplement no. 4, 1: 5,000,000. Sayre, R., P. Comer, H. Warner, and J. Cress. 2009. A new map of standardized terrestrial ecosystems of the conterminous United States: U. S. Geological Survey professional Paper 1768, 17 p. True, D. 2002. Landforms of the Lower Mid-West. Missouri Resource Assessment Partnership. MoRAP Map Series MS-2003-001, scale 1:1,500,000. . True, D., T. Gordon, and D. Diamond. 2000. How the size of a sliding window impacts the generation of landforms. Missouri Resources Assessment Partnership. .",
 "extent": {
  "xmin": -25.3614820573576,
  "ymin": -46.982805642583635,
  "xmax": 63.502684605818594,
  "ymax": 37.54219435373596,
  "spatialReference": {
   "wkid": 4326,
   "latestWkid": 4326
  }
 },
 "initialExtent": {
  "xmin": -25.3614820573576,
  "ymin": -46.982805642583635,
  "xmax": 63.502684605818594,
  "ymax": 37.54219435373596,
  "spatialReference": {
   "wkid": 4326,
   "latestWkid": 4326
  }
 },
 "fullExtent": {
  "xmin": -25.3614820573576,
  "ymin": -46.982805642583635,
  "xmax": 63.502684605818594,
  "ymax": 37.54219435373596,
  "spatialReference": {
   "wkid": 4326,
   "latestWkid": 4326
  }
 },
 "sortableFields": "",
 "bandCount": 3,
 "pixelType": "U8",
 "minValues": [],
 "maxValues": [],
 "meanValues": [],
 "stdvValues": [],
 "serviceProperties": "Center<\/MosaicMethod>First<\/MosaicOperator>true<\/SortAscending><\/LockImageID><\/TileOrderField>0<\/TileOrderBase>0.000000<\/AvgImageSpacingX>0.000000<\/AvgImageSpacingY>0.0<\/ViewPointX>0.0<\/ViewPointY>0.0<\/ViewPointDefShiftX>0.0<\/ViewPointDefShiftY>None<\/CompressionMethod>75<\/CompressionQuality>0.010000<\/CompressionTolerance>Bilinear<\/SamplingMethod><\/ImageServiceProperties><\/ImageServer>",
 "allowedFields": "",
 "hasMultidimensions": false,
 "pixelSizeX": 8.33333333300601E-4,
 "pixelSizeY": 8.333333332970482E-4,
 "meanPixelSize": 92.76624232388649,
 "datasetFormat": "TIFF",
 "uncompressedSize": 32448572730,
 "blockWidth": 128,
 "blockHeight": 128,
 "compressionType": "LZW",
 "bandNames": [
  "Band_1"
 ],
 "allowCopy": true,
 "allowAnalysis": true,
 "itemAccess": false,
 "inspectionCapabilities": "",
 "noDataValue": 256,
 "noDataValues": [
  256,
  256,
  256
 ],
 "minPixelSize": 0,
 "maxPixelSize": 0,
 "copyrightText": "RCMRD-SERVIR Africa Team",
 "serviceDataType": "esriImageServiceDataTypeThematic",
 "serviceSourceType": "esriImageServiceSourceTypeDataset",
 "objectIdField": "",
 "fields": [],
 "capabilities": "Image,Metadata,Mensuration",
 "defaultMosaicMethod": "Center",
 "allowedMosaicMethods": "",
 "sortField": "",
 "sortValue": null,
 "sortAscending": true,
 "mosaicOperator": "First",
 "defaultCompressionQuality": 75,
 "defaultResamplingMethod": "Bilinear",
 "maxImageHeight": 4100,
 "maxImageWidth": 15000,
 "allowRasterFunction": true,
 "rasterFunctionInfos": [
  {
   "name": "None",
   "description": "",
   "help": ""
  }
 ],
 "rasterTypeInfos": [
  {
   "name": "Raster Dataset",
   "description": "Supports all ArcGIS Raster Datasets",
   "help": ""
  }
 ],
 "mensurationCapabilities": "Basic",
 "hasHistograms": false,
 "hasColormap": false,
 "hasRasterAttributeTable": false,
 "minScale": 0,
 "maxScale": 0,
 "exportTilesAllowed": false,
 "supportsStatistics": false,
 "supportsAdvancedQueries": false,
 "editFieldsInfo": null,
 "ownershipBasedAccessControlForRasters": null,
 "allowComputeTiePoints": false,
 "useStandardizedQueries": true,
 "advancedQueryCapabilities": {
  "useStandardizedQueries": true,
  "supportsStatistics": false,
  "supportsOrderBy": false,
  "supportsDistinct": false,
  "supportsPagination": false
 },
 "spatialReference": {
  "wkid": 4326,
  "latestWkid": 4326
 }
}
