<?xml version="1.0" encoding="UTF-8" standalone="no"?>
<metadata xml:lang="en">
<eainfo>
<detailed Name="Africa_Lethology.tif.vat">
<enttyp>
<enttypl Sync="TRUE">Africa_Lethology.tif.vat</enttypl>
<enttypt Sync="TRUE">Table</enttypt>
<enttypc Sync="TRUE">21</enttypc>
</enttyp>
<attr>
<attrlabl Sync="TRUE">OID</attrlabl>
<attalias Sync="TRUE">OID</attalias>
<attrtype Sync="TRUE">OID</attrtype>
<attwidth Sync="TRUE">4</attwidth>
<atprecis Sync="TRUE">0</atprecis>
<attscale Sync="TRUE">0</attscale>
<attrdef Sync="TRUE">Internal feature number.</attrdef>
<attrdefs Sync="TRUE">Esri</attrdefs>
<attrdomv>
<udom Sync="TRUE">Sequential unique whole numbers that are automatically generated.</udom>
</attrdomv>
</attr>
<attr>
<attrlabl>Value</attrlabl>
<attalias Sync="TRUE">Value</attalias>
<attrtype Sync="TRUE">Double</attrtype>
<attwidth Sync="TRUE">10</attwidth>
<atprecis Sync="TRUE">10</atprecis>
<attscale Sync="TRUE">0</attscale>
</attr>
<attr>
<attrlabl>Count_</attrlabl>
<attalias Sync="TRUE">Count_</attalias>
<attrtype Sync="TRUE">Double</attrtype>
<attwidth Sync="TRUE">19</attwidth>
<atprecis Sync="TRUE">18</atprecis>
<attscale Sync="TRUE">8</attscale>
</attr>
<attr>
<attrlabl>Red</attrlabl>
<attalias Sync="TRUE">Red</attalias>
<attrtype Sync="TRUE">Double</attrtype>
<attwidth Sync="TRUE">19</attwidth>
<atprecis Sync="TRUE">18</atprecis>
<attscale Sync="TRUE">8</attscale>
</attr>
<attr>
<attrlabl>Green</attrlabl>
<attalias Sync="TRUE">Green</attalias>
<attrtype Sync="TRUE">Double</attrtype>
<attwidth Sync="TRUE">19</attwidth>
<atprecis Sync="TRUE">18</atprecis>
<attscale Sync="TRUE">8</attscale>
</attr>
<attr>
<attrlabl>Blue</attrlabl>
<attalias Sync="TRUE">Blue</attalias>
<attrtype Sync="TRUE">Double</attrtype>
<attwidth Sync="TRUE">19</attwidth>
<atprecis Sync="TRUE">18</atprecis>
<attscale Sync="TRUE">8</attscale>
</attr>
<attr>
<attrlabl>Opacity</attrlabl>
<attalias Sync="TRUE">Opacity</attalias>
<attrtype Sync="TRUE">Double</attrtype>
<attwidth Sync="TRUE">19</attwidth>
<atprecis Sync="TRUE">18</atprecis>
<attscale Sync="TRUE">8</attscale>
</attr>
<attr>
<attrlabl>Lithology</attrlabl>
<attalias Sync="TRUE">Lithology</attalias>
<attrtype Sync="TRUE">String</attrtype>
<attwidth Sync="TRUE">50</attwidth>
<atprecis Sync="TRUE">0</atprecis>
<attscale Sync="TRUE">0</attscale>
</attr>
</detailed>
</eainfo>
<Esri>
<DataProperties>
<itemProps>
<itemName Sync="TRUE">Africa_Lethology.tif</itemName>
<nativeExtBox>
<westBL Sync="TRUE">-25.361482</westBL>
<eastBL Sync="TRUE">63.501851</eastBL>
<southBL Sync="TRUE">-46.982806</southBL>
<northBL Sync="TRUE">37.542194</northBL>
<exTypeCode Sync="TRUE">1</exTypeCode>
</nativeExtBox>
<imsContentType Sync="TRUE">002</imsContentType>
</itemProps>
<coordRef>
<type Sync="TRUE">Geographic</type>
<geogcsn Sync="TRUE">GCS_WGS_1984</geogcsn>
<csUnits Sync="TRUE">Angular Unit: Degree (0.017453)</csUnits>
<peXml Sync="TRUE">&lt;GeographicCoordinateSystem xsi:type='typens:GeographicCoordinateSystem' xmlns:xsi='http://www.w3.org/2001/XMLSchema-instance' xmlns:xs='http://www.w3.org/2001/XMLSchema' xmlns:typens='http://www.esri.com/schemas/ArcGIS/10.1'&gt;&lt;WKT&gt;GEOGCS[&amp;quot;GCS_WGS_1984&amp;quot;,DATUM[&amp;quot;D_WGS_1984&amp;quot;,SPHEROID[&amp;quot;WGS_1984&amp;quot;,6378137.0,298.257223563]],PRIMEM[&amp;quot;Greenwich&amp;quot;,0.0],UNIT[&amp;quot;Degree&amp;quot;,0.0174532925199433],AUTHORITY[&amp;quot;EPSG&amp;quot;,4326]]&lt;/WKT&gt;&lt;XOrigin&gt;-400&lt;/XOrigin&gt;&lt;YOrigin&gt;-400&lt;/YOrigin&gt;&lt;XYScale&gt;11258999068426.238&lt;/XYScale&gt;&lt;ZOrigin&gt;-100000&lt;/ZOrigin&gt;&lt;ZScale&gt;10000&lt;/ZScale&gt;&lt;MOrigin&gt;-100000&lt;/MOrigin&gt;&lt;MScale&gt;10000&lt;/MScale&gt;&lt;XYTolerance&gt;8.983152841195215e-009&lt;/XYTolerance&gt;&lt;ZTolerance&gt;0.001&lt;/ZTolerance&gt;&lt;MTolerance&gt;0.001&lt;/MTolerance&gt;&lt;HighPrecision&gt;true&lt;/HighPrecision&gt;&lt;LeftLongitude&gt;-180&lt;/LeftLongitude&gt;&lt;WKID&gt;4326&lt;/WKID&gt;&lt;LatestWKID&gt;4326&lt;/LatestWKID&gt;&lt;/GeographicCoordinateSystem&gt;</peXml>
</coordRef>
<RasterProperties>
<General>
<PixelDepth Sync="TRUE">8</PixelDepth>
<HasColormap Sync="TRUE">TRUE</HasColormap>
<CompressionType Sync="TRUE">LZW</CompressionType>
<NumBands Sync="TRUE">1</NumBands>
<Format Sync="TRUE">TIFF</Format>
<HasPyramids Sync="TRUE">TRUE</HasPyramids>
<SourceType Sync="TRUE">discrete</SourceType>
<PixelType Sync="TRUE">unsigned integer</PixelType>
<NoDataValue Sync="TRUE">255</NoDataValue>
</General>
</RasterProperties>
</DataProperties>
<SyncDate>20150210</SyncDate>
<SyncTime>17252800</SyncTime>
<ModDate>20150210</ModDate>
<ModTime>17252800</ModTime>
<ArcGISFormat>1.0</ArcGISFormat>
<scaleRange>
<minScale>150000000</minScale>
<maxScale>5000</maxScale>
</scaleRange>
<ArcGISProfile>ISO19139</ArcGISProfile>
</Esri>
<mdFileID>{4F933A2F-0059-444B-A63E-362C6A71EEBA}</mdFileID>
<mdLang>
<languageCode value="eng">
</languageCode>
<countryCode Sync="TRUE" value="USA">
</countryCode>
</mdLang>
<mdChar>
<CharSetCd value="004">
</CharSetCd>
</mdChar>
<mdHrLv>
<ScopeCd value="014">
</ScopeCd>
</mdHrLv>
<mdHrLvName Sync="TRUE">dataset</mdHrLvName>
<mdContact>
<rpIndName>Eric Kabuchanga</rpIndName>
<rpOrgName>RCMRD</rpOrgName>
<rpPosName>System Developer</rpPosName>
<role>
<RoleCd value="001">
</RoleCd>
</role>
</mdContact>
<mdDateSt Sync="TRUE">20150210</mdDateSt>
<mdStanName>ArcGIS Metadata</mdStanName>
<mdStanVer>1.0</mdStanVer>
<dataIdInfo>
<idCitation>
<resTitle Sync="TRUE">Africa_Lethology.tif</resTitle>
<date>
<createDate>2009-09-01T00:00:00</createDate>
</date>
<citRespParty>
<rpIndName>Roger Sayre</rpIndName>
<rpOrgName>U.S. Geological Survey, Geographic Analysis and Monitoring Unit</rpOrgName>
<rpPosName>Senior Scientist</rpPosName>
<role>
<RoleCd value="007">
</RoleCd>
</role>
</citRespParty>
<citRespParty>
<rpIndName>Roger Sayre</rpIndName>
<rpOrgName>U.S. Geological Survey, Geographic Analysis and Monitoring Unit</rpOrgName>
<rpPosName>Senior Scientist</rpPosName>
<role>
<RoleCd value="007">
</RoleCd>
</role>
</citRespParty>
<citRespParty>
<rpIndName>Eric Kabuchanga</rpIndName>
<rpOrgName>RCMRD</rpOrgName>
<rpPosName>System Developer</rpPosName>
<role>
<RoleCd value="005">
</RoleCd>
</role>
</citRespParty>
<presForm>
<PresFormCd Sync="TRUE" value="005">
</PresFormCd>
</presForm>
</idCitation>
<idAbs>The African surficial lithology dataset is a map of parent materials - a mix of bedrock geology and unconsolidated surficial materials classes. The goal was to produce a map that reflected the key geological parent materials which act as primary determinants in the distribution of African vegetation /ecosystems. It is a compilation and reclassification of twelve digital geology, soil and lithology databases. Nineteen surficial lithology classes were delineated in Africa based on geology, soil and landform. Whenever available, multiple sources of ancillary digital data, hard copy maps and literature were reviewed to assist in the reclassification of the source data to the African surficial lithology classification. Of particular note, due to the varying spatial and classification resolutions of the geologic source data, the African surficial lithology map varies in spatial complexity and classification detail across Africa. Purpose: The African surficial lithology data was developed as a primary input dataset for an African Ecological Footprint mapping project undertaken by the U.S. Geological Survey and The Nature Conservancy. The project used a biophysical stratification approach which was based on mapping the major structural components of ecosystems (land surface forms, lithology, isobioclimates and biogeographic regions). These unique physical components, which are considered as the fundamental building blocks of ecosystems, were reviewed by regional vegetation and landscape ecology experts and used in a classification and regression tree (CART) inductive model to map intermediate scale African ecosystems.</idAbs>
<svType>
<genericName>urn:x-esri:specification:ServiceType:ArcGIS</genericName>
</svType>
<dataExt>
<geoEle>
<GeoBndBox>
<westBL>-22.207</westBL>
<eastBL>53.7305</eastBL>
<southBL>-40.4004</southBL>
<northBL>39.4043</northBL>
</GeoBndBox>
</geoEle>
</dataExt>
<svOper>
<svOpName>USGS Surficial Lithology</svOpName>
<svParams>
<svRepeat>false</svRepeat>
</svParams>
<svConPt>
<linkage>http://servir.rcmrd.org/ArcGIS/rest/services/Base_Services/Ecosys/MapServer/1</linkage>
</svConPt>
</svOper>
<envirDesc Sync="TRUE"> Version 6.2 (Build 9200) ; Esri ArcGIS 10.2.2.3552</envirDesc>
<dataLang>
<languageCode Sync="TRUE" value="eng">
</languageCode>
<countryCode Sync="TRUE" value="USA">
</countryCode>
</dataLang>
<spatRpType>
<SpatRepTypCd Sync="TRUE" value="002">
</SpatRepTypCd>
</spatRpType>
<dataExt>
<geoEle>
<GeoBndBox esriExtentType="search">
<exTypeCode Sync="TRUE">1</exTypeCode>
<westBL Sync="TRUE">-25.361482</westBL>
<eastBL Sync="TRUE">63.501851</eastBL>
<northBL Sync="TRUE">37.542194</northBL>
<southBL Sync="TRUE">-46.982806</southBL>
</GeoBndBox>
</geoEle>
</dataExt>
<idPurp>Africa surficial lithology</idPurp>
<idCredit>RCMRD SERVIR-Africa Team</idCredit>
<searchKeys>
<keyword>geology</keyword>
<keyword>rocks</keyword>
<keyword>soil</keyword>
<keyword>ecosystems</keyword>
<keyword>landforms</keyword>
<keyword>africa</keyword>
<keyword>usgs</keyword>
</searchKeys>
<graphOver>
<bgFileName>withheld</bgFileName>
<bgFileDesc>thumbnail</bgFileDesc>
<bgFileType>small</bgFileType>
</graphOver>
<resConst>
<Consts>
<useLimit>Public Domain</useLimit>
</Consts>
</resConst>
</dataIdInfo>
<distInfo>
<distFormat>
<formatName Sync="TRUE">Raster Dataset</formatName>
</distFormat>
</distInfo>
<refSysInfo>
<RefSystem>
<refSysID>
<identCode Sync="TRUE" code="4326">
</identCode>
<idCodeSpace Sync="TRUE">EPSG</idCodeSpace>
<idVersion Sync="TRUE">8.2.6</idVersion>
</refSysID>
</RefSystem>
</refSysInfo>
<spatRepInfo>
<Georect>
<cellGeo>
<CellGeoCd Sync="TRUE" value="002">
</CellGeoCd>
</cellGeo>
<numDims Sync="TRUE">2</numDims>
<tranParaAv Sync="TRUE">1</tranParaAv>
<chkPtAv Sync="TRUE">0</chkPtAv>
<cornerPts>
<pos Sync="TRUE">-25.361482 -46.982806</pos>
</cornerPts>
<cornerPts>
<pos Sync="TRUE">-25.361482 37.542194</pos>
</cornerPts>
<cornerPts>
<pos Sync="TRUE">63.501851 37.542194</pos>
</cornerPts>
<cornerPts>
<pos Sync="TRUE">63.501851 -46.982806</pos>
</cornerPts>
<centerPt>
<pos Sync="TRUE">19.070185 -4.720306</pos>
</centerPt>
<axisDimension type="002">
<dimSize Sync="TRUE">106636</dimSize>
<dimResol>
<value Sync="TRUE" uom="Degree">0.000833</value>
</dimResol>
</axisDimension>
<axisDimension type="001">
<dimSize Sync="TRUE">101430</dimSize>
<dimResol>
<value Sync="TRUE" uom="Degree">0.000833</value>
</dimResol>
</axisDimension>
<ptInPixel>
<PixOrientCd Sync="TRUE" value="001">
</PixOrientCd>
</ptInPixel>
</Georect>
</spatRepInfo>
<contInfo>
<ImgDesc>
<contentTyp>
<ContentTypCd Sync="TRUE" value="002">
</ContentTypCd>
</contentTyp>
<covDim>
<Band>
<dimDescrp Sync="TRUE">Band_1</dimDescrp>
<maxVal Sync="TRUE">20.000000</maxVal>
<minVal Sync="TRUE">0.000000</minVal>
<bitsPerVal Sync="TRUE">8</bitsPerVal>
<valUnit>
<UOM type="length">
</UOM>
</valUnit>
</Band>
</covDim>
</ImgDesc>
</contInfo>
<MetaID>4F933A2F-0059-444B-A63E-362C6A71EEBA</MetaID>
</metadata>
