{
 "currentVersion": 11.5,
 "serviceDescription": "The African surficial lithology dataset is a map of parent materials - a mix of bedrock geology and unconsolidated surficial materials classes. The goal was to produce a map that reflected the key geological parent materials which act as primary determinants in the distribution of African vegetation /ecosystems. It is a compilation and reclassification of twelve digital geology, soil and lithology databases. Nineteen surficial lithology classes were delineated in Africa based on geology, soil and landform. Whenever available, multiple sources of ancillary digital data, hard copy maps and literature were reviewed to assist in the reclassification of the source data to the African surficial lithology classification. Of particular note, due to the varying spatial and classification resolutions of the geologic source data, the African surficial lithology map varies in spatial complexity and classification detail across Africa. Purpose: The African surficial lithology data was developed as a primary input dataset for an African Ecological Footprint mapping project undertaken by the U.S. Geological Survey and The Nature Conservancy. The project used a biophysical stratification approach which was based on mapping the major structural components of ecosystems (land surface forms, lithology, isobioclimates and biogeographic regions). These unique physical components, which are considered as the fundamental building blocks of ecosystems, were reviewed by regional vegetation and landscape ecology experts and used in a classification and regression tree (CART) inductive model to map intermediate scale African ecosystems.",
 "serviceItemId": "8fbec10d59ce45cfadb906cd68e6d753",
 "name": "Africa/Africa_Surface_Lithology",
 "description": "The African surficial lithology dataset is a map of parent materials - a mix of bedrock geology and unconsolidated surficial materials classes. The goal was to produce a map that reflected the key geological parent materials which act as primary determinants in the distribution of African vegetation /ecosystems. It is a compilation and reclassification of twelve digital geology, soil and lithology databases. Nineteen surficial lithology classes were delineated in Africa based on geology, soil and landform. Whenever available, multiple sources of ancillary digital data, hard copy maps and literature were reviewed to assist in the reclassification of the source data to the African surficial lithology classification. Of particular note, due to the varying spatial and classification resolutions of the geologic source data, the African surficial lithology map varies in spatial complexity and classification detail across Africa. Purpose: The African surficial lithology data was developed as a primary input dataset for an African Ecological Footprint mapping project undertaken by the U.S. Geological Survey and The Nature Conservancy. The project used a biophysical stratification approach which was based on mapping the major structural components of ecosystems (land surface forms, lithology, isobioclimates and biogeographic regions). These unique physical components, which are considered as the fundamental building blocks of ecosystems, were reviewed by regional vegetation and landscape ecology experts and used in a classification and regression tree (CART) inductive model to map intermediate scale African ecosystems.",
 "extent": {
  "xmin": -25.3614820573576,
  "ymin": -46.982805642162326,
  "xmax": 63.50185127210644,
  "ymax": 37.54219435415727,
  "spatialReference": {
   "wkid": 4326,
   "latestWkid": 4326
  }
 },
 "initialExtent": {
  "xmin": -25.3614820573576,
  "ymin": -46.982805642162326,
  "xmax": 63.50185127210644,
  "ymax": 37.54219435415727,
  "spatialReference": {
   "wkid": 4326,
   "latestWkid": 4326
  }
 },
 "fullExtent": {
  "xmin": -25.3614820573576,
  "ymin": -46.982805642162326,
  "xmax": 63.50185127210644,
  "ymax": 37.54219435415727,
  "spatialReference": {
   "wkid": 4326,
   "latestWkid": 4326
  }
 },
 "sortableFields": "",
 "bandCount": 3,
 "pixelType": "U8",
 "minValues": [],
 "maxValues": [],
 "meanValues": [],
 "stdvValues": [],
 "serviceProperties": "Center<\/MosaicMethod>First<\/MosaicOperator>true<\/SortAscending><\/LockImageID><\/TileOrderField>0<\/TileOrderBase>0.000000<\/AvgImageSpacingX>0.000000<\/AvgImageSpacingY>0.0<\/ViewPointX>0.0<\/ViewPointY>0.0<\/ViewPointDefShiftX>0.0<\/ViewPointDefShiftY>None<\/CompressionMethod>75<\/CompressionQuality>0.010000<\/CompressionTolerance>Bilinear<\/SamplingMethod><\/ImageServiceProperties><\/ImageServer>",
 "allowedFields": "",
 "hasMultidimensions": false,
 "pixelSizeX": 8.333333332970483E-4,
 "pixelSizeY": 8.333333332970482E-4,
 "meanPixelSize": 92.76624232368874,
 "datasetFormat": "TIFF",
 "uncompressedSize": 32448268440,
 "blockWidth": 128,
 "blockHeight": 128,
 "compressionType": "LZW",
 "bandNames": [
  "Band_1"
 ],
 "allowCopy": true,
 "allowAnalysis": true,
 "itemAccess": false,
 "inspectionCapabilities": "",
 "noDataValue": 256,
 "noDataValues": [
  256,
  256,
  256
 ],
 "minPixelSize": 0,
 "maxPixelSize": 0,
 "copyrightText": "RCMRD SERVIR-Africa Team",
 "serviceDataType": "esriImageServiceDataTypeThematic",
 "serviceSourceType": "esriImageServiceSourceTypeDataset",
 "objectIdField": "",
 "fields": [],
 "capabilities": "Image,Metadata,Mensuration",
 "defaultMosaicMethod": "Center",
 "allowedMosaicMethods": "",
 "sortField": "",
 "sortValue": null,
 "sortAscending": true,
 "mosaicOperator": "First",
 "defaultCompressionQuality": 75,
 "defaultResamplingMethod": "Bilinear",
 "maxImageHeight": 4100,
 "maxImageWidth": 15000,
 "allowRasterFunction": true,
 "rasterFunctionInfos": [
  {
   "name": "None",
   "description": "",
   "help": ""
  }
 ],
 "rasterTypeInfos": [
  {
   "name": "Raster Dataset",
   "description": "Supports all ArcGIS Raster Datasets",
   "help": ""
  }
 ],
 "mensurationCapabilities": "Basic",
 "hasHistograms": false,
 "hasColormap": false,
 "hasRasterAttributeTable": false,
 "minScale": 0,
 "maxScale": 0,
 "exportTilesAllowed": false,
 "supportsStatistics": false,
 "supportsAdvancedQueries": false,
 "editFieldsInfo": null,
 "ownershipBasedAccessControlForRasters": null,
 "allowComputeTiePoints": false,
 "useStandardizedQueries": true,
 "advancedQueryCapabilities": {
  "useStandardizedQueries": true,
  "supportsStatistics": false,
  "supportsOrderBy": false,
  "supportsDistinct": false,
  "supportsPagination": false
 },
 "spatialReference": {
  "wkid": 4326,
  "latestWkid": 4326
 }
}
