<?xml version="1.0" encoding="UTF-8" standalone="no"?>
<metadata xml:lang="en">
<spdoinfo>
<rastinfo>
<rasttype>Pixel</rasttype>
<rowcount>101430</rowcount>
<colcount>106637</colcount>
<vrtcount>1</vrtcount>
<rastxsz Sync="TRUE">0.000833</rastxsz>
<rastysz Sync="TRUE">0.000833</rastysz>
<rastbpp Sync="TRUE">8</rastbpp>
<rastorig Sync="TRUE">Upper Left</rastorig>
<rastcmap Sync="TRUE">TRUE</rastcmap>
<rastcomp Sync="TRUE">NONE</rastcomp>
<rastband Sync="TRUE">1</rastband>
<rastdtyp Sync="TRUE">pixel codes</rastdtyp>
<rastifor Sync="TRUE">SDR</rastifor>
<rastplyr Sync="TRUE">TRUE</rastplyr>
</rastinfo>
</spdoinfo>
<eainfo>
<detailed Name="Africa_Topographic_Moisture.tif.vat">
<enttyp>
<enttypl>SERVIR_AFRICA.DBO.SDE_VAT_51</enttypl>
<enttypt Sync="TRUE">Table</enttypt>
<enttypc Sync="TRUE">256</enttypc>
</enttyp>
<attr>
<attrlabl Sync="TRUE">OID</attrlabl>
<attalias Sync="TRUE">OID</attalias>
<attrtype Sync="TRUE">OID</attrtype>
<attwidth Sync="TRUE">4</attwidth>
<atprecis Sync="TRUE">0</atprecis>
<attscale Sync="TRUE">0</attscale>
<attrdef Sync="TRUE">Internal feature number.</attrdef>
<attrdefs Sync="TRUE">Esri</attrdefs>
<attrdomv>
<udom Sync="TRUE">Sequential unique whole numbers that are automatically generated.</udom>
</attrdomv>
</attr>
<attr>
<attrlabl>Value</attrlabl>
<attalias Sync="TRUE">Value</attalias>
<attrtype Sync="TRUE">Double</attrtype>
<attwidth Sync="TRUE">10</attwidth>
<atprecis Sync="TRUE">10</atprecis>
<attscale Sync="TRUE">0</attscale>
</attr>
<attr>
<attrlabl>Red</attrlabl>
<attalias Sync="TRUE">Red</attalias>
<attrtype Sync="TRUE">Double</attrtype>
<attwidth Sync="TRUE">19</attwidth>
<atprecis Sync="TRUE">18</atprecis>
<attscale Sync="TRUE">8</attscale>
</attr>
<attr>
<attrlabl>Green</attrlabl>
<attalias Sync="TRUE">Green</attalias>
<attrtype Sync="TRUE">Double</attrtype>
<attwidth Sync="TRUE">19</attwidth>
<atprecis Sync="TRUE">18</atprecis>
<attscale Sync="TRUE">8</attscale>
</attr>
<attr>
<attrlabl>Blue</attrlabl>
<attalias Sync="TRUE">Blue</attalias>
<attrtype Sync="TRUE">Double</attrtype>
<attwidth Sync="TRUE">19</attwidth>
<atprecis Sync="TRUE">18</atprecis>
<attscale Sync="TRUE">8</attscale>
</attr>
<attr>
<attrlabl>Opacity</attrlabl>
<attalias Sync="TRUE">Opacity</attalias>
<attrtype Sync="TRUE">Double</attrtype>
<attwidth Sync="TRUE">19</attwidth>
<atprecis Sync="TRUE">18</atprecis>
<attscale Sync="TRUE">8</attscale>
</attr>
</detailed>
</eainfo>
<dataIdInfo>
<envirDesc Sync="TRUE"> Version 6.2 (Build 9200) ; Esri ArcGIS 10.2.2.3552</envirDesc>
<dataLang>
<languageCode Sync="TRUE" value="eng">
</languageCode>
<countryCode Sync="TRUE" value="USA">
</countryCode>
</dataLang>
<idCitation>
<resTitle Sync="TRUE">Africa_Topographic_Moisture.tif</resTitle>
<presForm>
<PresFormCd Sync="TRUE" value="005">
</PresFormCd>
</presForm>
</idCitation>
<spatRpType>
<SpatRepTypCd Sync="TRUE" value="002">
</SpatRepTypCd>
</spatRpType>
<dataExt>
<geoEle>
<GeoBndBox esriExtentType="search">
<exTypeCode Sync="TRUE">1</exTypeCode>
<westBL Sync="TRUE">-25.361482</westBL>
<eastBL Sync="TRUE">63.502685</eastBL>
<northBL Sync="TRUE">37.542194</northBL>
<southBL Sync="TRUE">-46.982806</southBL>
</GeoBndBox>
</geoEle>
</dataExt>
<idPurp>Africa Topographic Moisture Potential</idPurp>
<idAbs>Created as part of the USGS’s Africa Ecosystems Mapping project, the Africa Topographic Moisture Potential layer classifies the landscape of Africa as either uplands or as lowlands and other depressions.This layer provides access to a 100m cell size raster derived from SRTM and other data that divides the African landscape into upland and lowland areas. The data covers Africa, Madagascar, the Comoros Islands, and other coastal Islands near Africa. It was published in 2009 by the USGS Rocky Mountain Geographic Science Center.This layer was used as an input for the Africa Terrestrial Ecosystems mapping project.</idAbs>
<idCredit>USGS</idCredit>
<searchKeys>
<keyword>Hillshade</keyword>
<keyword>Relief</keyword>
<keyword>Topography</keyword>
<keyword>Drainage</keyword>
</searchKeys>
<tpCat>
<TopicCatCd value="007">
</TopicCatCd>
</tpCat>
<graphOver>
<bgFileName>withheld</bgFileName>
<bgFileDesc>thumbnail</bgFileDesc>
<bgFileType>small</bgFileType>
</graphOver>
<resConst>
<Consts>
<useLimit>Public Domain</useLimit>
</Consts>
</resConst>
</dataIdInfo>
<mdLang>
<languageCode Sync="TRUE" value="eng">
</languageCode>
<countryCode Sync="TRUE" value="USA">
</countryCode>
</mdLang>
<Esri>
<DataProperties>
<itemProps>
<itemName Sync="TRUE">Africa_Topographic_Moisture.tif</itemName>
<imsContentType Sync="TRUE" export="False">002</imsContentType>
<nativeExtBox>
<westBL Sync="TRUE">-25.361482</westBL>
<eastBL Sync="TRUE">63.502685</eastBL>
<southBL Sync="TRUE">-46.982806</southBL>
<northBL Sync="TRUE">37.542194</northBL>
<exTypeCode Sync="TRUE">1</exTypeCode>
</nativeExtBox>
</itemProps>
<coordRef>
<type Sync="TRUE">Geographic</type>
<geogcsn Sync="TRUE">GCS_WGS_1984</geogcsn>
<csUnits Sync="TRUE">Angular Unit: Degree (0.017453)</csUnits>
<peXml Sync="TRUE">&lt;GeographicCoordinateSystem xsi:type='typens:GeographicCoordinateSystem' xmlns:xsi='http://www.w3.org/2001/XMLSchema-instance' xmlns:xs='http://www.w3.org/2001/XMLSchema' xmlns:typens='http://www.esri.com/schemas/ArcGIS/10.1'&gt;&lt;WKT&gt;GEOGCS[&amp;quot;GCS_WGS_1984&amp;quot;,DATUM[&amp;quot;D_WGS_1984&amp;quot;,SPHEROID[&amp;quot;WGS_1984&amp;quot;,6378137.0,298.257223563]],PRIMEM[&amp;quot;Greenwich&amp;quot;,0.0],UNIT[&amp;quot;Degree&amp;quot;,0.0174532925199433],AUTHORITY[&amp;quot;EPSG&amp;quot;,4326]]&lt;/WKT&gt;&lt;XOrigin&gt;-400&lt;/XOrigin&gt;&lt;YOrigin&gt;-400&lt;/YOrigin&gt;&lt;XYScale&gt;11258999068426.238&lt;/XYScale&gt;&lt;ZOrigin&gt;-100000&lt;/ZOrigin&gt;&lt;ZScale&gt;10000&lt;/ZScale&gt;&lt;MOrigin&gt;-100000&lt;/MOrigin&gt;&lt;MScale&gt;10000&lt;/MScale&gt;&lt;XYTolerance&gt;8.983152841195215e-009&lt;/XYTolerance&gt;&lt;ZTolerance&gt;0.001&lt;/ZTolerance&gt;&lt;MTolerance&gt;0.001&lt;/MTolerance&gt;&lt;HighPrecision&gt;true&lt;/HighPrecision&gt;&lt;LeftLongitude&gt;-180&lt;/LeftLongitude&gt;&lt;WKID&gt;4326&lt;/WKID&gt;&lt;LatestWKID&gt;4326&lt;/LatestWKID&gt;&lt;/GeographicCoordinateSystem&gt;</peXml>
</coordRef>
<RasterProperties>
<General>
<PixelDepth Sync="TRUE">8</PixelDepth>
<HasColormap Sync="TRUE">TRUE</HasColormap>
<CompressionType Sync="TRUE">LZW</CompressionType>
<NumBands Sync="TRUE">1</NumBands>
<Format Sync="TRUE">TIFF</Format>
<HasPyramids Sync="TRUE">TRUE</HasPyramids>
<SourceType Sync="TRUE">discrete</SourceType>
<PixelType Sync="TRUE">unsigned integer</PixelType>
<NoDataValue Sync="TRUE">256</NoDataValue>
</General>
</RasterProperties>
</DataProperties>
<SyncDate>20150216</SyncDate>
<SyncTime>12171000</SyncTime>
<ModDate>20150216</ModDate>
<ModTime>12234400</ModTime>
<scaleRange>
<minScale>150000000</minScale>
<maxScale>5000</maxScale>
</scaleRange>
<ArcGISFormat>1.0</ArcGISFormat>
<ArcGISProfile>ISO19139</ArcGISProfile>
<CreaDate>20150423</CreaDate>
<CreaTime>12072600</CreaTime>
<ArcGISstyle>ISO 19139 Metadata Implementation Specification</ArcGISstyle>
<SyncOnce>TRUE</SyncOnce>
</Esri>
<distInfo>
<distFormat>
<formatName Sync="TRUE">Raster Dataset</formatName>
</distFormat>
</distInfo>
<mdHrLv>
<ScopeCd Sync="TRUE" value="005">
</ScopeCd>
</mdHrLv>
<mdHrLvName Sync="TRUE">dataset</mdHrLvName>
<refSysInfo>
<RefSystem>
<refSysID>
<identCode Sync="TRUE" code="4326">
</identCode>
<idCodeSpace Sync="TRUE">EPSG</idCodeSpace>
<idVersion Sync="TRUE">8.2.6</idVersion>
</refSysID>
</RefSystem>
</refSysInfo>
<mdDateSt Sync="TRUE">20150216</mdDateSt>
<spatRepInfo>
<Georect>
<cellGeo>
<CellGeoCd Sync="TRUE" value="002">
</CellGeoCd>
</cellGeo>
<numDims Sync="TRUE">2</numDims>
<tranParaAv Sync="TRUE">1</tranParaAv>
<chkPtAv Sync="TRUE">0</chkPtAv>
<cornerPts>
<pos Sync="TRUE">-25.361482 -46.982806</pos>
</cornerPts>
<cornerPts>
<pos Sync="TRUE">-25.361482 37.542194</pos>
</cornerPts>
<cornerPts>
<pos Sync="TRUE">63.502685 37.542194</pos>
</cornerPts>
<cornerPts>
<pos Sync="TRUE">63.502685 -46.982806</pos>
</cornerPts>
<centerPt>
<pos Sync="TRUE">19.070601 -4.720306</pos>
</centerPt>
<axisDimension type="002">
<dimSize Sync="TRUE">106637</dimSize>
<dimResol>
<value Sync="TRUE" uom="Degree">0.000833</value>
</dimResol>
</axisDimension>
<axisDimension type="001">
<dimSize Sync="TRUE">101430</dimSize>
<dimResol>
<value Sync="TRUE" uom="Degree">0.000833</value>
</dimResol>
</axisDimension>
<ptInPixel>
<PixOrientCd Sync="TRUE" value="001">
</PixOrientCd>
</ptInPixel>
</Georect>
</spatRepInfo>
<contInfo>
<ImgDesc>
<contentTyp>
<ContentTypCd Sync="TRUE" value="002">
</ContentTypCd>
</contentTyp>
<covDim>
<Band>
<dimDescrp Sync="TRUE">Band_1</dimDescrp>
<bitsPerVal Sync="TRUE">8</bitsPerVal>
<valUnit>
<UOM type="length">
</UOM>
</valUnit>
<maxVal Sync="TRUE">2.000000</maxVal>
<minVal Sync="TRUE">0.000000</minVal>
</Band>
</covDim>
</ImgDesc>
</contInfo>
<mdContact>
<rpOrgName>RCMRD</rpOrgName>
<role>
<RoleCd value="007">
</RoleCd>
</role>
</mdContact>
<mdFileID>363a7e7e-c803-42dc-b201-712307c3624c</mdFileID>
<MetaID>363a7e7e-c803-42dc-b201-712307c3624c</MetaID>
</metadata>
