{
 "currentVersion": 11.5,
 "serviceDescription": "Created as part of the USGS\u2019s Africa Ecosystems Mapping project, the Africa Topographic Moisture Potential layer classifies the landscape of Africa as either uplands or as lowlands and other depressions.This layer provides access to a 100m cell size raster derived from SRTM and other data that divides the African landscape into upland and lowland areas. The data covers Africa, Madagascar, the Comoros Islands, and other coastal Islands near Africa. It was published in 2009 by the USGS Rocky Mountain Geographic Science Center.This layer was used as an input for the Africa Terrestrial Ecosystems mapping project.",
 "serviceItemId": "bd5019a3b7b84b87b03ffc64278a2aef",
 "name": "Africa/Africa_Topo_Moisture_Potential",
 "description": "Created as part of the USGS\u2019s Africa Ecosystems Mapping project, the Africa Topographic Moisture Potential layer classifies the landscape of Africa as either uplands or as lowlands and other depressions.This layer provides access to a 100m cell size raster derived from SRTM and other data that divides the African landscape into upland and lowland areas. The data covers Africa, Madagascar, the Comoros Islands, and other coastal Islands near Africa. It was published in 2009 by the USGS Rocky Mountain Geographic Science Center.This layer was used as an input for the Africa Terrestrial Ecosystems mapping project.",
 "extent": {
  "xmin": -25.3614820573576,
  "ymin": -46.98280564288304,
  "xmax": 63.5026846057545,
  "ymax": 37.542194353735965,
  "spatialReference": {
   "wkid": 4326,
   "latestWkid": 4326
  }
 },
 "initialExtent": {
  "xmin": -25.3614820573576,
  "ymin": -46.98280564288304,
  "xmax": 63.5026846057545,
  "ymax": 37.542194353735965,
  "spatialReference": {
   "wkid": 4326,
   "latestWkid": 4326
  }
 },
 "fullExtent": {
  "xmin": -25.3614820573576,
  "ymin": -46.98280564288304,
  "xmax": 63.5026846057545,
  "ymax": 37.542194353735965,
  "spatialReference": {
   "wkid": 4326,
   "latestWkid": 4326
  }
 },
 "sortableFields": "",
 "bandCount": 3,
 "pixelType": "U8",
 "minValues": [],
 "maxValues": [],
 "meanValues": [],
 "stdvValues": [],
 "serviceProperties": "Center<\/MosaicMethod>First<\/MosaicOperator>true<\/SortAscending><\/LockImageID><\/TileOrderField>0<\/TileOrderBase>0.000000<\/AvgImageSpacingX>0.000000<\/AvgImageSpacingY>0.0<\/ViewPointX>0.0<\/ViewPointY>0.0<\/ViewPointDefShiftX>0.0<\/ViewPointDefShiftY>None<\/CompressionMethod>75<\/CompressionQuality>0.010000<\/CompressionTolerance>Bilinear<\/SamplingMethod><\/ImageServiceProperties><\/ImageServer>",
 "allowedFields": "",
 "hasMultidimensions": false,
 "pixelSizeX": 8.333333333E-4,
 "pixelSizeY": 8.333333333E-4,
 "meanPixelSize": 92.76624232401733,
 "datasetFormat": "TIFF",
 "uncompressedSize": 32448572730,
 "blockWidth": 128,
 "blockHeight": 128,
 "compressionType": "LZW",
 "bandNames": [
  "Band_1"
 ],
 "allowCopy": true,
 "allowAnalysis": true,
 "itemAccess": false,
 "inspectionCapabilities": "",
 "noDataValue": 256,
 "noDataValues": [
  256,
  256,
  256
 ],
 "minPixelSize": 0,
 "maxPixelSize": 0,
 "copyrightText": "USGS",
 "serviceDataType": "esriImageServiceDataTypeThematic",
 "serviceSourceType": "esriImageServiceSourceTypeDataset",
 "objectIdField": "",
 "fields": [],
 "capabilities": "Image,Metadata,Mensuration",
 "defaultMosaicMethod": "Center",
 "allowedMosaicMethods": "",
 "sortField": "",
 "sortValue": null,
 "sortAscending": true,
 "mosaicOperator": "First",
 "defaultCompressionQuality": 75,
 "defaultResamplingMethod": "Bilinear",
 "maxImageHeight": 4100,
 "maxImageWidth": 15000,
 "allowRasterFunction": true,
 "rasterFunctionInfos": [
  {
   "name": "None",
   "description": "",
   "help": ""
  }
 ],
 "rasterTypeInfos": [
  {
   "name": "Raster Dataset",
   "description": "Supports all ArcGIS Raster Datasets",
   "help": ""
  }
 ],
 "mensurationCapabilities": "Basic",
 "hasHistograms": false,
 "hasColormap": false,
 "hasRasterAttributeTable": false,
 "minScale": 0,
 "maxScale": 0,
 "exportTilesAllowed": false,
 "supportsStatistics": false,
 "supportsAdvancedQueries": false,
 "editFieldsInfo": null,
 "ownershipBasedAccessControlForRasters": null,
 "allowComputeTiePoints": false,
 "useStandardizedQueries": true,
 "advancedQueryCapabilities": {
  "useStandardizedQueries": true,
  "supportsStatistics": false,
  "supportsOrderBy": false,
  "supportsDistinct": false,
  "supportsPagination": false
 },
 "spatialReference": {
  "wkid": 4326,
  "latestWkid": 4326
 }
}
