{
 "currentVersion": 11.5,
 "serviceDescription": "Tigray 2013 Landuse Landcover ",
 "serviceItemId": "899d5756935e4bbf99b6e14e711745f6",
 "name": "Ethiopia/Ethiopia_Tigray_2013_Landuse_LandCover",
 "description": "Tigray 2013 Landuse Landcover ",
 "extent": {
  "xmin": 222730.991,
  "ymin": 1353077.89,
  "xmax": 618760.991,
  "ymax": 1642817.89,
  "spatialReference": {
   "wkid": 32637,
   "latestWkid": 32637
  }
 },
 "initialExtent": {
  "xmin": 222730.991,
  "ymin": 1353077.89,
  "xmax": 618760.991,
  "ymax": 1642817.89,
  "spatialReference": {
   "wkid": 32637,
   "latestWkid": 32637
  }
 },
 "fullExtent": {
  "xmin": 222730.991,
  "ymin": 1353077.89,
  "xmax": 618760.991,
  "ymax": 1642817.89,
  "spatialReference": {
   "wkid": 32637,
   "latestWkid": 32637
  }
 },
 "sortableFields": "",
 "bandCount": 3,
 "pixelType": "U8",
 "minValues": [],
 "maxValues": [],
 "meanValues": [],
 "stdvValues": [],
 "serviceProperties": "Center<\/MosaicMethod>First<\/MosaicOperator>true<\/SortAscending><\/LockImageID><\/TileOrderField>0<\/TileOrderBase>0.000000<\/AvgImageSpacingX>0.000000<\/AvgImageSpacingY>0.0<\/ViewPointX>0.0<\/ViewPointY>0.0<\/ViewPointDefShiftX>0.0<\/ViewPointDefShiftY>None<\/CompressionMethod>75<\/CompressionQuality>0.010000<\/CompressionTolerance>Bilinear<\/SamplingMethod><\/ImageServiceProperties><\/ImageServer>",
 "allowedFields": "",
 "hasMultidimensions": false,
 "pixelSizeX": 30,
 "pixelSizeY": 30,
 "meanPixelSize": 30,
 "datasetFormat": "IMAGINE Image",
 "uncompressedSize": 382485774,
 "blockWidth": 13201,
 "blockHeight": 79,
 "compressionType": "RLE",
 "bandNames": [
  "Warp_Band_1_Tigray_L8_2013_Classified_V6_Final_CODED_V7"
 ],
 "allowCopy": true,
 "allowAnalysis": true,
 "itemAccess": false,
 "inspectionCapabilities": "",
 "noDataValue": 256,
 "noDataValues": [
  256,
  256,
  256
 ],
 "minPixelSize": 0,
 "maxPixelSize": 0,
 "copyrightText": "RCMRD SERVIR E&SA, NASA, USAID",
 "serviceDataType": "esriImageServiceDataTypeThematic",
 "serviceSourceType": "esriImageServiceSourceTypeDataset",
 "objectIdField": "",
 "fields": [],
 "capabilities": "Image,Metadata,Mensuration",
 "defaultMosaicMethod": "Center",
 "allowedMosaicMethods": "",
 "sortField": "",
 "sortValue": null,
 "sortAscending": true,
 "mosaicOperator": "First",
 "defaultCompressionQuality": 75,
 "defaultResamplingMethod": "Bilinear",
 "maxImageHeight": 4100,
 "maxImageWidth": 15000,
 "allowRasterFunction": true,
 "rasterFunctionInfos": [
  {
   "name": "None",
   "description": "",
   "help": ""
  }
 ],
 "rasterTypeInfos": [
  {
   "name": "Raster Dataset",
   "description": "Supports all ArcGIS Raster Datasets",
   "help": ""
  }
 ],
 "mensurationCapabilities": "Basic",
 "hasHistograms": false,
 "hasColormap": false,
 "hasRasterAttributeTable": false,
 "minScale": 0,
 "maxScale": 0,
 "exportTilesAllowed": false,
 "supportsStatistics": false,
 "supportsAdvancedQueries": false,
 "editFieldsInfo": null,
 "ownershipBasedAccessControlForRasters": null,
 "allowComputeTiePoints": false,
 "useStandardizedQueries": true,
 "advancedQueryCapabilities": {
  "useStandardizedQueries": true,
  "supportsStatistics": false,
  "supportsOrderBy": false,
  "supportsDistinct": false,
  "supportsPagination": false
 },
 "spatialReference": {
  "wkid": 32637,
  "latestWkid": 32637
 }
}
