T<\/SPAN>he Shuttle Radar Topography Mission data at 30meters resolution for South Sudan. Referenced tiles were mosai<\/SPAN>c<\/SPAN>ked and clipped to the extent of the country<\/SPAN><\/P><\/P><\/DIV><\/DIV><\/DIV>",
"serviceItemId": "b11e7e44b361451d85beb034382ddc42",
"name": "South_Sudan/South_Sudan_SRTM30meters",
"description": "
T<\/SPAN>he Shuttle Radar Topography Mission data at 30meters resolution for South Sudan. Referenced tiles were mosai<\/SPAN>c<\/SPAN>ked and clipped to the extent of the country<\/SPAN><\/P><\/P><\/DIV><\/DIV><\/DIV>",
"extent": {
"xmin": 24.139861111111113,
"ymin": 3.492916666666666,
"xmax": 35.941250000000004,
"ymax": 12.219027777777777,
"spatialReference": {
"wkid": 4326,
"latestWkid": 4326
}
},
"initialExtent": {
"xmin": 24.139861111111113,
"ymin": 3.492916666666666,
"xmax": 35.941250000000004,
"ymax": 12.219027777777777,
"spatialReference": {
"wkid": 4326,
"latestWkid": 4326
}
},
"fullExtent": {
"xmin": 24.139861111111113,
"ymin": 3.492916666666666,
"xmax": 35.941250000000004,
"ymax": 12.219027777777777,
"spatialReference": {
"wkid": 4326,
"latestWkid": 4326
}
},
"sortableFields": "",
"bandCount": 1,
"pixelType": "S16",
"minValues": [
346
],
"maxValues": [
3178
],
"meanValues": [
517.32657393677
],
"stdvValues": [
163.88720452431
],
"serviceProperties": "Center<\/MosaicMethod>First<\/MosaicOperator>true<\/SortAscending><\/LockImageID><\/TileOrderField>0<\/TileOrderBase>0.000000<\/AvgImageSpacingX>0.000000<\/AvgImageSpacingY>0.0<\/ViewPointX>0.0<\/ViewPointY>0.0<\/ViewPointDefShiftX>0.0<\/ViewPointDefShiftY>None<\/CompressionMethod>75<\/CompressionQuality>0.010000<\/CompressionTolerance>Bilinear<\/SamplingMethod><\/ImageServiceProperties><\/ImageServer>",
"allowedFields": "",
"hasMultidimensions": false,
"pixelSizeX": 2.7777777777777783E-4,
"pixelSizeY": 2.777777777777778E-4,
"meanPixelSize": 30.92208077590933,
"datasetFormat": "TIFF",
"uncompressedSize": 2669247580,
"blockWidth": 128,
"blockHeight": 128,
"compressionType": "LZW",
"bandNames": [
"Band_1"
],
"allowCopy": true,
"allowAnalysis": true,
"itemAccess": false,
"inspectionCapabilities": "",
"noDataValue": -32768,
"noDataValues": [
-32768
],
"minPixelSize": 0,
"maxPixelSize": 0,
"copyrightText": "SERVIR AFRICA team and NASA",
"serviceDataType": "esriImageServiceDataTypeGeneric",
"serviceSourceType": "esriImageServiceSourceTypeDataset",
"objectIdField": "",
"fields": [],
"capabilities": "Image,Metadata,Mensuration",
"defaultMosaicMethod": "Center",
"allowedMosaicMethods": "",
"sortField": "",
"sortValue": null,
"sortAscending": true,
"mosaicOperator": "First",
"defaultCompressionQuality": 75,
"defaultResamplingMethod": "Bilinear",
"maxImageHeight": 4100,
"maxImageWidth": 15000,
"allowRasterFunction": true,
"rasterFunctionInfos": [
{
"name": "None",
"description": "",
"help": ""
}
],
"rasterTypeInfos": [
{
"name": "Raster Dataset",
"description": "Supports all ArcGIS Raster Datasets",
"help": ""
}
],
"mensurationCapabilities": "Basic",
"hasHistograms": true,
"hasColormap": false,
"hasRasterAttributeTable": false,
"minScale": 0,
"maxScale": 0,
"exportTilesAllowed": false,
"supportsStatistics": false,
"supportsAdvancedQueries": false,
"editFieldsInfo": null,
"ownershipBasedAccessControlForRasters": null,
"allowComputeTiePoints": false,
"useStandardizedQueries": true,
"advancedQueryCapabilities": {
"useStandardizedQueries": true,
"supportsStatistics": false,
"supportsOrderBy": false,
"supportsDistinct": false,
"supportsPagination": false
},
"spatialReference": {
"wkid": 4326,
"latestWkid": 4326
}
}