The Shuttle Radar Topography Mission data at 30metres resolution for <\/SPAN>Uganda<\/SPAN>. Referenced tiles were mosai<\/SPAN>c<\/SPAN>ked and clipped to the extent of the country<\/SPAN><\/P><\/P><\/DIV><\/DIV><\/DIV>",
"serviceItemId": "97a92a4c12734b9fa97629bcb9c70fb7",
"name": "Uganda/Uganda_SRTM30meters",
"description": "
The Shuttle Radar Topography Mission data at 30metres resolution for <\/SPAN>Uganda<\/SPAN>. Referenced tiles were mosai<\/SPAN>c<\/SPAN>ked and clipped to the extent of the country<\/SPAN><\/P><\/P><\/DIV><\/DIV><\/DIV>",
"extent": {
"xmin": 29.571250000000003,
"ymin": -1.479027777777774,
"xmax": 35.000416666666666,
"ymax": 4.234583333333334,
"spatialReference": {
"wkid": 4326,
"latestWkid": 4326
}
},
"initialExtent": {
"xmin": 29.571250000000003,
"ymin": -1.479027777777774,
"xmax": 35.000416666666666,
"ymax": 4.234583333333334,
"spatialReference": {
"wkid": 4326,
"latestWkid": 4326
}
},
"fullExtent": {
"xmin": 29.571250000000003,
"ymin": -1.479027777777774,
"xmax": 35.000416666666666,
"ymax": 4.234583333333334,
"spatialReference": {
"wkid": 4326,
"latestWkid": 4326
}
},
"sortableFields": "",
"bandCount": 1,
"pixelType": "S16",
"minValues": [
574
],
"maxValues": [
5239
],
"meanValues": [
1155.1317100764
],
"stdvValues": [
284.07771980907
],
"serviceProperties": "Center<\/MosaicMethod>First<\/MosaicOperator>true<\/SortAscending><\/LockImageID><\/TileOrderField>0<\/TileOrderBase>0.000000<\/AvgImageSpacingX>0.000000<\/AvgImageSpacingY>0.0<\/ViewPointX>0.0<\/ViewPointY>0.0<\/ViewPointDefShiftX>0.0<\/ViewPointDefShiftY>None<\/CompressionMethod>75<\/CompressionQuality>0.010000<\/CompressionTolerance>Bilinear<\/SamplingMethod><\/ImageServiceProperties><\/ImageServer>",
"allowedFields": "",
"hasMultidimensions": false,
"pixelSizeX": 2.777777777777776E-4,
"pixelSizeY": 2.777777777777776E-4,
"meanPixelSize": 30.922080775909304,
"datasetFormat": "TIFF",
"uncompressedSize": 804042210,
"blockWidth": 128,
"blockHeight": 128,
"compressionType": "LZW",
"bandNames": [
"Band_1"
],
"allowCopy": true,
"allowAnalysis": true,
"itemAccess": false,
"inspectionCapabilities": "",
"noDataValue": -32768,
"noDataValues": [
-32768
],
"minPixelSize": 0,
"maxPixelSize": 0,
"copyrightText": "SERVIR AFRICA team and NASA",
"serviceDataType": "esriImageServiceDataTypeGeneric",
"serviceSourceType": "esriImageServiceSourceTypeDataset",
"objectIdField": "",
"fields": [],
"capabilities": "Image,Metadata,Mensuration",
"defaultMosaicMethod": "Center",
"allowedMosaicMethods": "",
"sortField": "",
"sortValue": null,
"sortAscending": true,
"mosaicOperator": "First",
"defaultCompressionQuality": 75,
"defaultResamplingMethod": "Bilinear",
"maxImageHeight": 4100,
"maxImageWidth": 15000,
"allowRasterFunction": true,
"rasterFunctionInfos": [
{
"name": "None",
"description": "",
"help": ""
}
],
"rasterTypeInfos": [
{
"name": "Raster Dataset",
"description": "Supports all ArcGIS Raster Datasets",
"help": ""
}
],
"mensurationCapabilities": "Basic",
"hasHistograms": true,
"hasColormap": false,
"hasRasterAttributeTable": false,
"minScale": 0,
"maxScale": 0,
"exportTilesAllowed": false,
"supportsStatistics": false,
"supportsAdvancedQueries": false,
"editFieldsInfo": null,
"ownershipBasedAccessControlForRasters": null,
"allowComputeTiePoints": false,
"useStandardizedQueries": true,
"advancedQueryCapabilities": {
"useStandardizedQueries": true,
"supportsStatistics": false,
"supportsOrderBy": false,
"supportsDistinct": false,
"supportsPagination": false
},
"spatialReference": {
"wkid": 4326,
"latestWkid": 4326
}
}