View In:
ArcGIS JavaScript
ArcGIS Online Map Viewer
ArcGIS Earth
Service Description: The land surface forms were identified using the method developed by the Missouri Resource Assessment Partnership (MoRAP). The MoRAP method is an automated land surface form classification based on Hammond's (1964a, 1964b) classification. MoRAP made modifications to Hammond's classification, which allowed finer-resolution elevation data to be used as input data and analyses to be made using 1 km2 moving window (True, 2002; True et al., 2000). While Hammond's methodology was based on three variables, slope, local relief, and profile type, MoRAP's methodology uses only slope and local relief (True, 2002). Slope is classified as gently sloping or not gently sloping using a threshold value of 8%. Local relief, the difference between the maximum and minimum elevation in a 1km2 neighborhood for analysis, is classified into five classes (0-15m, 16-30m, 31-90m, 91-150m, and >150m). Slope classes and relief classes were subsequently combined to produce eight land surface form classes (flat plains, smooth plains, irregular plains, escarpments, low hills, hills, breaks/foothills, and low mountains). In the implementation for the contiguous United States, Sayre et al. (2009) further refined the MoRAP methodology to identify a new land surface form class, "high mountains/deep canyons", by using an additional local relief class (>400 m). This method was implemented for Africa using a void-filled 90m SRTM elevation dataset which was created from the 30m SRTM elevation data provided by the National Geospatial-Intelligence Agency. In the preliminary output, which had nine land surface form classes (flat plains, smooth plains, irregular plains, escarpments, low hills, hills, breaks/foothills, and low mountains, and high mountains/deep canyons), artifacts were identified over flat desert areas affecting the classification between the two lowest relief classes, "flat plains" and "smooth plains." Since this problem was especially pronounced in areas where the input SRTM elevation data originally had data-voids, the problem could have been caused by anomalies or artifacts in the input data, which resulted from the void-filling processes. Instead of further investigating causes of the problem, the two land surface form classes were combined. In addition, the "low hills" class which had a very low occurrence was combined with the "hills" class. As a result, seven land surface form classes were identified in the final dataset (smooth plains, irregular plains, escarpments, hills, breaks/foothills, low mountains, and high mountains/deep canyons). References: Hammond, E.H., 1964a. Analysis of Properties in Land Form Geography - An Application to Broad-Scale Land Form Mapping. Annals of the Association of American Geographers, v. 54, no. 1, p. 11-19. Hammond, E.H. 1964b. Classes of land surface form in the forty-eight states, U.S.A. Annals of the Association of American Geographers. 54(1): map supplement no. 4, 1: 5,000,000. Sayre, R., P. Comer, H. Warner, and J. Cress. 2009. A new map of standardized terrestrial ecosystems of the conterminous United States: U. S. Geological Survey professional Paper 1768, 17 p. True, D. 2002. Landforms of the Lower Mid-West. Missouri Resource Assessment Partnership. MoRAP Map Series MS-2003-001, scale 1:1,500,000.
. True, D., T. Gordon, and D. Diamond. 2000. How the size of a sliding window impacts the generation of landforms. Missouri Resources Assessment Partnership. .
Name: Africa/Africa_Land_Surface
Description: The land surface forms were identified using the method developed by the Missouri Resource Assessment Partnership (MoRAP). The MoRAP method is an automated land surface form classification based on Hammond's (1964a, 1964b) classification. MoRAP made modifications to Hammond's classification, which allowed finer-resolution elevation data to be used as input data and analyses to be made using 1 km2 moving window (True, 2002; True et al., 2000). While Hammond's methodology was based on three variables, slope, local relief, and profile type, MoRAP's methodology uses only slope and local relief (True, 2002). Slope is classified as gently sloping or not gently sloping using a threshold value of 8%. Local relief, the difference between the maximum and minimum elevation in a 1km2 neighborhood for analysis, is classified into five classes (0-15m, 16-30m, 31-90m, 91-150m, and >150m). Slope classes and relief classes were subsequently combined to produce eight land surface form classes (flat plains, smooth plains, irregular plains, escarpments, low hills, hills, breaks/foothills, and low mountains). In the implementation for the contiguous United States, Sayre et al. (2009) further refined the MoRAP methodology to identify a new land surface form class, "high mountains/deep canyons", by using an additional local relief class (>400 m). This method was implemented for Africa using a void-filled 90m SRTM elevation dataset which was created from the 30m SRTM elevation data provided by the National Geospatial-Intelligence Agency. In the preliminary output, which had nine land surface form classes (flat plains, smooth plains, irregular plains, escarpments, low hills, hills, breaks/foothills, and low mountains, and high mountains/deep canyons), artifacts were identified over flat desert areas affecting the classification between the two lowest relief classes, "flat plains" and "smooth plains." Since this problem was especially pronounced in areas where the input SRTM elevation data originally had data-voids, the problem could have been caused by anomalies or artifacts in the input data, which resulted from the void-filling processes. Instead of further investigating causes of the problem, the two land surface form classes were combined. In addition, the "low hills" class which had a very low occurrence was combined with the "hills" class. As a result, seven land surface form classes were identified in the final dataset (smooth plains, irregular plains, escarpments, hills, breaks/foothills, low mountains, and high mountains/deep canyons). References: Hammond, E.H., 1964a. Analysis of Properties in Land Form Geography - An Application to Broad-Scale Land Form Mapping. Annals of the Association of American Geographers, v. 54, no. 1, p. 11-19. Hammond, E.H. 1964b. Classes of land surface form in the forty-eight states, U.S.A. Annals of the Association of American Geographers. 54(1): map supplement no. 4, 1: 5,000,000. Sayre, R., P. Comer, H. Warner, and J. Cress. 2009. A new map of standardized terrestrial ecosystems of the conterminous United States: U. S. Geological Survey professional Paper 1768, 17 p. True, D. 2002. Landforms of the Lower Mid-West. Missouri Resource Assessment Partnership. MoRAP Map Series MS-2003-001, scale 1:1,500,000. . True, D., T. Gordon, and D. Diamond. 2000. How the size of a sliding window impacts the generation of landforms. Missouri Resources Assessment Partnership. .
Single Fused Map Cache: false
Extent:
XMin: -25.3614820573576
YMin: -46.982805642583635
XMax: 63.502684605818594
YMax: 37.54219435373596
Spatial Reference: 4326
(4326)
LatestVCSWkid(0)
Initial Extent:
XMin: -25.3614820573576
YMin: -46.982805642583635
XMax: 63.502684605818594
YMax: 37.54219435373596
Spatial Reference: 4326
(4326)
LatestVCSWkid(0)
Full Extent:
XMin: -25.3614820573576
YMin: -46.982805642583635
XMax: 63.502684605818594
YMax: 37.54219435373596
Spatial Reference: 4326
(4326)
LatestVCSWkid(0)
Pixel Size X: 8.33333333300601E-4
Pixel Size Y: 8.333333332970482E-4
Band Count: 3
Pixel Type: U8
RasterFunction Infos: {"rasterFunctionInfos": [{
"name": "None",
"description": "",
"help": ""
}]}
Mensuration Capabilities: Basic
Inspection Capabilities:
Has Histograms: false
Has Colormap: false
Has Multi Dimensions : false
Rendering Rule:
Min Scale: 0
Max Scale: 0
Copyright Text: RCMRD-SERVIR Africa Team
Service Data Type: esriImageServiceDataTypeThematic
Min Values: N/A
Max Values: N/A
Mean Values: N/A
Standard Deviation Values: N/A
Object ID Field:
Fields:
None
Default Mosaic Method: Center
Allowed Mosaic Methods:
SortField:
SortValue: null
Mosaic Operator: First
Default Compression Quality: 75
Default Resampling Method: Bilinear
Max Record Count: null
Max Image Height: 4100
Max Image Width: 15000
Max Download Image Count: null
Max Mosaic Image Count: null
Allow Raster Function: true
Allow Copy: true
Allow Analysis: true
Allow Compute TiePoints: false
Supports Statistics: false
Supports Advanced Queries: false
Use StandardizedQueries: true
Raster Type Infos:
Name: Raster Dataset
Description: Supports all ArcGIS Raster Datasets
Help:
Has Raster Attribute Table: false
Edit Fields Info: null
Ownership Based AccessControl For Rasters: null
Child Resources:
Info
Statistics
Key Properties
Legend
Raster Function Infos
Supported Operations:
Export Image
Identify
Measure
Compute Histograms
Compute Statistics Histograms
Get Samples
Compute Class Statistics
Query Boundary
Compute Pixel Location
Compute Angles
Validate
Project