View In:
ArcGIS JavaScript
ArcGIS Online Map Viewer
ArcGIS Earth
Service Description: Africa Forest Cover Categories
Name: Africa/Africa_Forest_Cover
Description: Africa Forest Cover Categories
Single Fused Map Cache: false
Extent:
XMin: -20.488511845262767
YMin: -44.328262371975484
XMax: 63.96044893966473
YMax: 47.833577829878976
Spatial Reference: 4326
(4326)
LatestVCSWkid(0)
Initial Extent:
XMin: -20.488511845262767
YMin: -44.328262371975484
XMax: 63.96044893966473
YMax: 47.833577829878976
Spatial Reference: 4326
(4326)
LatestVCSWkid(0)
Full Extent:
XMin: -20.488511845262767
YMin: -44.328262371975484
XMax: 63.96044893966473
YMax: 47.833577829878976
Spatial Reference: 4326
(4326)
LatestVCSWkid(0)
Pixel Size X: 0.0031417024101535527
Pixel Size Y: 0.0031417024101535523
Band Count: 1
Pixel Type: U8
RasterFunction Infos: {"rasterFunctionInfos": [{
"name": "None",
"description": "",
"help": ""
}]}
Mensuration Capabilities: Basic
Inspection Capabilities:
Has Histograms: true
Has Colormap: false
Has Multi Dimensions : false
Rendering Rule:
Min Scale: 0
Max Scale: 0
Copyright Text: RCMRD SERVIR-Africa Team
Service Data Type: esriImageServiceDataTypeGeneric
Min Values: 11
Max Values: 230
Mean Values: 168.08567821115
Standard Deviation Values: 64.313191567549
Object ID Field:
Fields:
None
Default Mosaic Method: Center
Allowed Mosaic Methods:
SortField:
SortValue: null
Mosaic Operator: First
Default Compression Quality: 75
Default Resampling Method: Bilinear
Max Record Count: null
Max Image Height: 4100
Max Image Width: 15000
Max Download Image Count: null
Max Mosaic Image Count: null
Allow Raster Function: true
Allow Copy: true
Allow Analysis: true
Allow Compute TiePoints: false
Supports Statistics: false
Supports Advanced Queries: false
Use StandardizedQueries: true
Raster Type Infos:
Name: Raster Dataset
Description: Supports all ArcGIS Raster Datasets
Help:
Has Raster Attribute Table: true
Edit Fields Info: null
Ownership Based AccessControl For Rasters: null
Child Resources:
Info
Raster Attribute Table
Histograms
Statistics
Key Properties
Legend
Raster Function Infos
Supported Operations:
Export Image
Identify
Measure
Compute Histograms
Compute Statistics Histograms
Get Samples
Compute Class Statistics
Query Boundary
Compute Pixel Location
Compute Angles
Validate
Project