View In:
ArcGIS JavaScript
ArcGIS Online Map Viewer
ArcGIS Earth
Service Description: Africa Land use Classification, clipped from Globcover datasets. Resolution 312 meters.
Name: Africa/Africa_Landuse
Description: Africa Land use Classification, clipped from Globcover datasets. Resolution 312 meters.
Single Fused Map Cache: false
Extent:
XMin: -2115224.9352823757
YMin: -4163959.0209700502
XMax: 6567873.899135683
YMax: 5312183.2523801625
Spatial Reference: 102100
(3857)
LatestVCSWkid(0)
Initial Extent:
XMin: -2115224.9352823757
YMin: -4163959.0209700502
XMax: 6567873.899135683
YMax: 5312183.2523801625
Spatial Reference: 102100
(3857)
LatestVCSWkid(0)
Full Extent:
XMin: -2115224.9352823757
YMin: -4163959.0209700502
XMax: 6567873.899135683
YMax: 5312183.2523801625
Spatial Reference: 102100
(3857)
LatestVCSWkid(0)
Pixel Size X: 323.0319506851956
Pixel Size Y: 323.03195068519557
Band Count: 1
Pixel Type: U8
RasterFunction Infos: {"rasterFunctionInfos": [{
"name": "None",
"description": "",
"help": ""
}]}
Mensuration Capabilities: Basic
Inspection Capabilities:
Has Histograms: true
Has Colormap: false
Has Multi Dimensions : false
Rendering Rule:
Min Scale: 0
Max Scale: 0
Copyright Text: RCMRD SERVIR Africa-team
Service Data Type: esriImageServiceDataTypeGeneric
Min Values: 11
Max Values: 230
Mean Values: 168.08567821115
Standard Deviation Values: 64.313191567549
Object ID Field:
Fields:
None
Default Mosaic Method: Center
Allowed Mosaic Methods:
SortField:
SortValue: null
Mosaic Operator: First
Default Compression Quality: 75
Default Resampling Method: Bilinear
Max Record Count: null
Max Image Height: 4100
Max Image Width: 15000
Max Download Image Count: null
Max Mosaic Image Count: null
Allow Raster Function: true
Allow Copy: true
Allow Analysis: true
Allow Compute TiePoints: false
Supports Statistics: false
Supports Advanced Queries: false
Use StandardizedQueries: true
Raster Type Infos:
Name: Raster Dataset
Description: Supports all ArcGIS Raster Datasets
Help:
Has Raster Attribute Table: true
Edit Fields Info: null
Ownership Based AccessControl For Rasters: null
Child Resources:
Info
Raster Attribute Table
Histograms
Statistics
Key Properties
Legend
Raster Function Infos
Supported Operations:
Export Image
Identify
Measure
Compute Histograms
Compute Statistics Histograms
Get Samples
Compute Class Statistics
Query Boundary
Compute Pixel Location
Compute Angles
Validate
Project