View In:
ArcGIS JavaScript
ArcGIS Online Map Viewer
ArcGIS Earth
Service Description: Africa Thermo plu
Name: Africa/Africa_thermo_plu
Description: Africa Thermo plu
Single Fused Map Cache: false
Extent:
XMin: -25.3614820573576
YMin: -46.982805642162326
XMax: 63.50185127210644
YMax: 37.54219435415727
Spatial Reference: 4326
(4326)
LatestVCSWkid(0)
Initial Extent:
XMin: -25.3614820573576
YMin: -46.982805642162326
XMax: 63.50185127210644
YMax: 37.54219435415727
Spatial Reference: 4326
(4326)
LatestVCSWkid(0)
Full Extent:
XMin: -25.3614820573576
YMin: -46.982805642162326
XMax: 63.50185127210644
YMax: 37.54219435415727
Spatial Reference: 4326
(4326)
LatestVCSWkid(0)
Pixel Size X: 8.333333332970483E-4
Pixel Size Y: 8.333333332970482E-4
Band Count: 1
Pixel Type: U16
RasterFunction Infos: {"rasterFunctionInfos": [{
"name": "None",
"description": "",
"help": ""
}]}
Mensuration Capabilities: Basic
Inspection Capabilities:
Has Histograms: true
Has Colormap: false
Has Multi Dimensions : false
Rendering Rule:
Min Scale: 0
Max Scale: 0
Copyright Text:
Service Data Type: esriImageServiceDataTypeGeneric
Min Values: 0
Max Values: 339
Mean Values: 18.729771325819
Standard Deviation Values: 36.460819615668
Object ID Field:
Fields:
None
Default Mosaic Method: Center
Allowed Mosaic Methods:
SortField:
SortValue: null
Mosaic Operator: First
Default Compression Quality: 75
Default Resampling Method: Bilinear
Max Record Count: null
Max Image Height: 4100
Max Image Width: 15000
Max Download Image Count: null
Max Mosaic Image Count: null
Allow Raster Function: true
Allow Copy: true
Allow Analysis: true
Allow Compute TiePoints: false
Supports Statistics: false
Supports Advanced Queries: false
Use StandardizedQueries: true
Raster Type Infos:
Name: Raster Dataset
Description: Supports all ArcGIS Raster Datasets
Help:
Has Raster Attribute Table: true
Edit Fields Info: null
Ownership Based AccessControl For Rasters: null
Child Resources:
Info
Raster Attribute Table
Histograms
Statistics
Key Properties
Legend
Raster Function Infos
Supported Operations:
Export Image
Identify
Measure
Compute Histograms
Compute Statistics Histograms
Get Samples
Compute Class Statistics
Query Boundary
Compute Pixel Location
Compute Angles
Validate
Project