View In:
ArcGIS JavaScript
ArcGIS Online Map Viewer
ArcGIS Earth
Service Description: Data represents the Shuttle Radar Topography Mission (SRTM) 30 metres image for Botswana.These SRTM was created through mosaicking tiles and clippingto the extent of the country
Name: Botswana/Botswana_SRTM30meters
Description: Data represents the Shuttle Radar Topography Mission (SRTM) 30 metres image for Botswana.These SRTM was created through mosaicking tiles and clippingto the extent of the country
Single Fused Map Cache: false
Extent:
XMin: 19.99930555555556
YMin: -26.90736111111111
XMax: 29.360972222222223
YMax: -17.780694444444446
Spatial Reference: 4326
(4326)
LatestVCSWkid(0)
Initial Extent:
XMin: 19.99930555555556
YMin: -26.90736111111111
XMax: 29.360972222222223
YMax: -17.780694444444446
Spatial Reference: 4326
(4326)
LatestVCSWkid(0)
Full Extent:
XMin: 19.99930555555556
YMin: -26.90736111111111
XMax: 29.360972222222223
YMax: -17.780694444444446
Spatial Reference: 4326
(4326)
LatestVCSWkid(0)
Pixel Size X: 2.777777777777777E-4
Pixel Size Y: 2.777777777777777E-4
Band Count: 1
Pixel Type: S16
RasterFunction Infos: {"rasterFunctionInfos": [{
"name": "None",
"description": "",
"help": ""
}]}
Mensuration Capabilities: Basic
Inspection Capabilities:
Has Histograms: true
Has Colormap: false
Has Multi Dimensions : false
Rendering Rule:
Min Scale: 0
Max Scale: 0
Copyright Text: RCMRD Servir Africa team and National Aeronautics and Space
Administration (NASA)
Service Data Type: esriImageServiceDataTypeGeneric
Min Values: 508
Max Values: 1496
Mean Values: 1034.4837098389
Standard Deviation Values: 102.53099931412
Object ID Field:
Fields:
None
Default Mosaic Method: Center
Allowed Mosaic Methods:
SortField:
SortValue: null
Mosaic Operator: First
Default Compression Quality: 75
Default Resampling Method: Bilinear
Max Record Count: null
Max Image Height: 4100
Max Image Width: 15000
Max Download Image Count: null
Max Mosaic Image Count: null
Allow Raster Function: true
Allow Copy: true
Allow Analysis: true
Allow Compute TiePoints: false
Supports Statistics: false
Supports Advanced Queries: false
Use StandardizedQueries: true
Raster Type Infos:
Name: Raster Dataset
Description: Supports all ArcGIS Raster Datasets
Help:
Has Raster Attribute Table: true
Edit Fields Info: null
Ownership Based AccessControl For Rasters: null
Child Resources:
Info
Raster Attribute Table
Histograms
Statistics
Key Properties
Legend
Raster Function Infos
Supported Operations:
Export Image
Identify
Measure
Compute Histograms
Compute Statistics Histograms
Get Samples
Compute Class Statistics
Query Boundary
Compute Pixel Location
Compute Angles
Validate
Project