View In:
ArcGIS JavaScript
ArcGIS Online Map Viewer
ArcGIS Earth
Service Description: Data represents the Shuttle Radar Topography Mission (SRTM) 30 metres image for Burundi.These SRTM was created through mosaicking tiles and clippingto the extent of the country
Name: Burundi/Burundi_SRTM30meters
Description: Data represents the Shuttle Radar Topography Mission (SRTM) 30 metres image for Burundi.These SRTM was created through mosaicking tiles and clippingto the extent of the country
Single Fused Map Cache: false
Extent:
XMin: 29.00013888888889
YMin: -4.470138888888886
XMax: 30.850416666666668
YMax: -2.309027777777777
Spatial Reference: 4326
(4326)
LatestVCSWkid(0)
Initial Extent:
XMin: 29.00013888888889
YMin: -4.470138888888886
XMax: 30.850416666666668
YMax: -2.309027777777777
Spatial Reference: 4326
(4326)
LatestVCSWkid(0)
Full Extent:
XMin: 29.00013888888889
YMin: -4.470138888888886
XMax: 30.850416666666668
YMax: -2.309027777777777
Spatial Reference: 4326
(4326)
LatestVCSWkid(0)
Pixel Size X: 2.777777777777776E-4
Pixel Size Y: 2.777777777777776E-4
Band Count: 1
Pixel Type: S16
RasterFunction Infos: {"rasterFunctionInfos": [{
"name": "None",
"description": "",
"help": ""
}]}
Mensuration Capabilities: Basic
Inspection Capabilities:
Has Histograms: true
Has Colormap: false
Has Multi Dimensions : false
Rendering Rule:
Min Scale: 0
Max Scale: 0
Copyright Text: National Aeronautics and Space
Administration (NASA) and RCMRD Servir Africa team
Service Data Type: esriImageServiceDataTypeGeneric
Min Values: 739
Max Values: 2686
Mean Values: 1507.7807937796
Standard Deviation Values: 366.95544946886
Object ID Field:
Fields:
None
Default Mosaic Method: Center
Allowed Mosaic Methods:
SortField:
SortValue: null
Mosaic Operator: First
Default Compression Quality: 75
Default Resampling Method: Bilinear
Max Record Count: null
Max Image Height: 4100
Max Image Width: 15000
Max Download Image Count: null
Max Mosaic Image Count: null
Allow Raster Function: true
Allow Copy: true
Allow Analysis: true
Allow Compute TiePoints: false
Supports Statistics: false
Supports Advanced Queries: false
Use StandardizedQueries: true
Raster Type Infos:
Name: Raster Dataset
Description: Supports all ArcGIS Raster Datasets
Help:
Has Raster Attribute Table: false
Edit Fields Info: null
Ownership Based AccessControl For Rasters: null
Child Resources:
Info
Histograms
Statistics
Key Properties
Legend
Raster Function Infos
Supported Operations:
Export Image
Identify
Measure
Compute Histograms
Compute Statistics Histograms
Get Samples
Compute Class Statistics
Query Boundary
Compute Pixel Location
Compute Angles
Validate
Project