View In:
ArcGIS JavaScript
ArcGIS Online Map Viewer
ArcGIS Earth
Service Description: Burundi Sentinel2 LULC 2016
Name: Burundi/Burundi_Sentinel2_LULC2016
Description: Burundi Sentinel2 LULC 2016
Single Fused Map Cache: false
Extent:
XMin: 29.000202343333
YMin: -4.470265348676
XMax: 30.850203010813
YMax: -2.309709013592
Spatial Reference: 4326
(4326)
LatestVCSWkid(0)
Initial Extent:
XMin: 29.000202343333
YMin: -4.470265348676
XMax: 30.850203010813
YMax: -2.309709013592
Spatial Reference: 4326
(4326)
LatestVCSWkid(0)
Full Extent:
XMin: 29.000202343333
YMin: -4.470265348676
XMax: 30.850203010813
YMax: -2.309709013592
Spatial Reference: 4326
(4326)
LatestVCSWkid(0)
Pixel Size X: 1.8518525199999998E-4
Pixel Size Y: 1.8518525199999995E-4
Band Count: 1
Pixel Type: S8
RasterFunction Infos: {"rasterFunctionInfos": [{
"name": "None",
"description": "",
"help": ""
}]}
Mensuration Capabilities: Basic
Inspection Capabilities:
Has Histograms: true
Has Colormap: false
Has Multi Dimensions : false
Rendering Rule:
Min Scale: 0
Max Scale: 0
Copyright Text:
Service Data Type: esriImageServiceDataTypeThematic
Min Values: 1
Max Values: 10
Mean Values: 3.2230558058472
Standard Deviation Values: 2.2569624940289
Object ID Field:
Fields:
None
Default Mosaic Method: Center
Allowed Mosaic Methods:
SortField:
SortValue: null
Mosaic Operator: First
Default Compression Quality: 75
Default Resampling Method: Bilinear
Max Record Count: null
Max Image Height: 4100
Max Image Width: 15000
Max Download Image Count: null
Max Mosaic Image Count: null
Allow Raster Function: true
Allow Copy: true
Allow Analysis: true
Allow Compute TiePoints: false
Supports Statistics: false
Supports Advanced Queries: false
Use StandardizedQueries: true
Raster Type Infos:
Name: Raster Dataset
Description: Supports all ArcGIS Raster Datasets
Help:
Has Raster Attribute Table: true
Edit Fields Info: null
Ownership Based AccessControl For Rasters: null
Child Resources:
Info
Raster Attribute Table
Histograms
Statistics
Key Properties
Legend
Raster Function Infos
Supported Operations:
Export Image
Identify
Measure
Compute Histograms
Compute Statistics Histograms
Get Samples
Compute Class Statistics
Query Boundary
Compute Pixel Location
Compute Angles
Validate
Project