View In:
ArcGIS JavaScript
ArcGIS Online Map Viewer
ArcGIS Earth
Service Description: Ethiopia Sentinel2 LULC 2016
Name: Ethiopia/Ethiopia_Sentinel2_LULC2016
Description: Ethiopia Sentinel2 LULC 2016
Single Fused Map Cache: false
Extent:
XMin: 32.999833414127
YMin: 3.4021883320799997
XMax: 47.961690664215006
YMax: 14.852933204248
Spatial Reference: 4326
(4326)
LatestVCSWkid(0)
Initial Extent:
XMin: 32.999833414127
YMin: 3.4021883320799997
XMax: 47.961690664215006
YMax: 14.852933204248
Spatial Reference: 4326
(4326)
LatestVCSWkid(0)
Full Extent:
XMin: 32.999833414127
YMin: 3.4021883320799997
XMax: 47.961690664215006
YMax: 14.852933204248
Spatial Reference: 4326
(4326)
LatestVCSWkid(0)
Pixel Size X: 1.8518525200000003E-4
Pixel Size Y: 1.85185252E-4
Band Count: 1
Pixel Type: S8
RasterFunction Infos: {"rasterFunctionInfos": [{
"name": "None",
"description": "",
"help": ""
}]}
Mensuration Capabilities: Basic
Inspection Capabilities:
Has Histograms: true
Has Colormap: false
Has Multi Dimensions : false
Rendering Rule:
Min Scale: 0
Max Scale: 0
Copyright Text:
Service Data Type: esriImageServiceDataTypeThematic
Min Values: 1
Max Values: 10
Mean Values: 3.010712367674
Standard Deviation Values: 1.5686431735122
Object ID Field:
Fields:
None
Default Mosaic Method: Center
Allowed Mosaic Methods:
SortField:
SortValue: null
Mosaic Operator: First
Default Compression Quality: 75
Default Resampling Method: Bilinear
Max Record Count: null
Max Image Height: 4100
Max Image Width: 15000
Max Download Image Count: null
Max Mosaic Image Count: null
Allow Raster Function: true
Allow Copy: true
Allow Analysis: true
Allow Compute TiePoints: false
Supports Statistics: false
Supports Advanced Queries: false
Use StandardizedQueries: true
Raster Type Infos:
Name: Raster Dataset
Description: Supports all ArcGIS Raster Datasets
Help:
Has Raster Attribute Table: true
Edit Fields Info: null
Ownership Based AccessControl For Rasters: null
Child Resources:
Info
Raster Attribute Table
Histograms
Statistics
Key Properties
Legend
Raster Function Infos
Supported Operations:
Export Image
Identify
Measure
Compute Histograms
Compute Statistics Histograms
Get Samples
Compute Class Statistics
Query Boundary
Compute Pixel Location
Compute Angles
Validate
Project