View In:
ArcGIS JavaScript
ArcGIS Online Map Viewer
ArcGIS Earth
Service Description: Land Cover maps were developed for Green Houses gases Inventories to provide baseline data for Land use, land-use change and forestry (LULUCF)sector.Scheme I is IPCC classification while Scheme II Country Specific Classification.
Name: Ethiopia/ethiopia_landcover_2013_scheme_i
Description: Land Cover maps were developed for Green Houses gases Inventories to provide baseline data for Land use, land-use change and forestry (LULUCF)sector.Scheme I is IPCC classification while Scheme II Country Specific Classification.
Single Fused Map Cache: false
Extent:
XMin: 32.85402739047538
YMin: 3.360989150964432
XMax: 48.17362593461529
YMax: 14.855639448385501
Spatial Reference: 4326
(4326)
LatestVCSWkid(0)
Initial Extent:
XMin: 32.85402739047538
YMin: 3.360989150964432
XMax: 48.17362593461529
YMax: 14.855639448385501
Spatial Reference: 4326
(4326)
LatestVCSWkid(0)
Full Extent:
XMin: 32.85402739047538
YMin: 3.360989150964432
XMax: 48.17362593461529
YMax: 14.855639448385501
Spatial Reference: 4326
(4326)
LatestVCSWkid(0)
Pixel Size X: 2.7507718423004933E-4
Pixel Size Y: 2.750771842300493E-4
Band Count: 3
Pixel Type: U8
RasterFunction Infos: {"rasterFunctionInfos": [{
"name": "None",
"description": "",
"help": ""
}]}
Mensuration Capabilities: Basic
Inspection Capabilities:
Has Histograms: false
Has Colormap: false
Has Multi Dimensions : false
Rendering Rule:
Min Scale: 0
Max Scale: 0
Copyright Text: RCMRD SERVIR E&SA, NASA, USAID
Service Data Type: esriImageServiceDataTypeThematic
Min Values: N/A
Max Values: N/A
Mean Values: N/A
Standard Deviation Values: N/A
Object ID Field:
Fields:
None
Default Mosaic Method: Center
Allowed Mosaic Methods:
SortField:
SortValue: null
Mosaic Operator: First
Default Compression Quality: 75
Default Resampling Method: Bilinear
Max Record Count: null
Max Image Height: 4100
Max Image Width: 15000
Max Download Image Count: null
Max Mosaic Image Count: null
Allow Raster Function: true
Allow Copy: true
Allow Analysis: true
Allow Compute TiePoints: false
Supports Statistics: false
Supports Advanced Queries: false
Use StandardizedQueries: true
Raster Type Infos:
Name: Raster Dataset
Description: Supports all ArcGIS Raster Datasets
Help:
Has Raster Attribute Table: false
Edit Fields Info: null
Ownership Based AccessControl For Rasters: null
Child Resources:
Info
Statistics
Key Properties
Legend
Raster Function Infos
Supported Operations:
Export Image
Identify
Measure
Compute Histograms
Compute Statistics Histograms
Get Samples
Compute Class Statistics
Query Boundary
Compute Pixel Location
Compute Angles
Validate
Project