View In:
ArcGIS JavaScript
ArcGIS Online Map Viewer
ArcGIS Earth
Service Description: The African surficial lithology dataset is a map of parent materials - a mix of bedrock geology and unconsolidated surficial materials classes. The goal was to produce a map that reflected the key geological parent materials which act as primary determinants in the distribution of African vegetation /ecosystems. It is a compilation and reclassification of twelve digital geology, soil and lithology databases. Nineteen surficial lithology classes were delineated in Africa based on geology, soil and landform. Whenever available, multiple sources of ancillary digital data, hard copy maps and literature were reviewed to assist in the reclassification of the source data to the African surficial lithology classification. Of particular note, due to the varying spatial and classification resolutions of the geologic source data, the African surficial lithology map varies in spatial complexity and classification detail across Africa. Purpose: The African surficial lithology data was developed as a primary input dataset for an African Ecological Footprint mapping project undertaken by the U.S. Geological Survey and The Nature Conservancy. The project used a biophysical stratification approach which was based on mapping the major structural components of ecosystems (land surface forms, lithology, isobioclimates and biogeographic regions). These unique physical components, which are considered as the fundamental building blocks of ecosystems, were reviewed by regional vegetation and landscape ecology experts and used in a classification and regression tree (CART) inductive model to map intermediate scale African ecosystems.
Name: Africa/Africa_Surface_Lithology
Description: The African surficial lithology dataset is a map of parent materials - a mix of bedrock geology and unconsolidated surficial materials classes. The goal was to produce a map that reflected the key geological parent materials which act as primary determinants in the distribution of African vegetation /ecosystems. It is a compilation and reclassification of twelve digital geology, soil and lithology databases. Nineteen surficial lithology classes were delineated in Africa based on geology, soil and landform. Whenever available, multiple sources of ancillary digital data, hard copy maps and literature were reviewed to assist in the reclassification of the source data to the African surficial lithology classification. Of particular note, due to the varying spatial and classification resolutions of the geologic source data, the African surficial lithology map varies in spatial complexity and classification detail across Africa. Purpose: The African surficial lithology data was developed as a primary input dataset for an African Ecological Footprint mapping project undertaken by the U.S. Geological Survey and The Nature Conservancy. The project used a biophysical stratification approach which was based on mapping the major structural components of ecosystems (land surface forms, lithology, isobioclimates and biogeographic regions). These unique physical components, which are considered as the fundamental building blocks of ecosystems, were reviewed by regional vegetation and landscape ecology experts and used in a classification and regression tree (CART) inductive model to map intermediate scale African ecosystems.
Single Fused Map Cache: false
Extent:
XMin: -25.3614820573576
YMin: -46.982805642162326
XMax: 63.50185127210644
YMax: 37.54219435415727
Spatial Reference: 4326
(4326)
LatestVCSWkid(0)
Initial Extent:
XMin: -25.3614820573576
YMin: -46.982805642162326
XMax: 63.50185127210644
YMax: 37.54219435415727
Spatial Reference: 4326
(4326)
LatestVCSWkid(0)
Full Extent:
XMin: -25.3614820573576
YMin: -46.982805642162326
XMax: 63.50185127210644
YMax: 37.54219435415727
Spatial Reference: 4326
(4326)
LatestVCSWkid(0)
Pixel Size X: 8.333333332970483E-4
Pixel Size Y: 8.333333332970482E-4
Band Count: 3
Pixel Type: U8
RasterFunction Infos: {"rasterFunctionInfos": [{
"name": "None",
"description": "",
"help": ""
}]}
Mensuration Capabilities: Basic
Inspection Capabilities:
Has Histograms: false
Has Colormap: false
Has Multi Dimensions : false
Rendering Rule:
Min Scale: 0
Max Scale: 0
Copyright Text: RCMRD SERVIR-Africa Team
Service Data Type: esriImageServiceDataTypeThematic
Min Values: N/A
Max Values: N/A
Mean Values: N/A
Standard Deviation Values: N/A
Object ID Field:
Fields:
None
Default Mosaic Method: Center
Allowed Mosaic Methods:
SortField:
SortValue: null
Mosaic Operator: First
Default Compression Quality: 75
Default Resampling Method: Bilinear
Max Record Count: null
Max Image Height: 4100
Max Image Width: 15000
Max Download Image Count: null
Max Mosaic Image Count: null
Allow Raster Function: true
Allow Copy: true
Allow Analysis: true
Allow Compute TiePoints: false
Supports Statistics: false
Supports Advanced Queries: false
Use StandardizedQueries: true
Raster Type Infos:
Name: Raster Dataset
Description: Supports all ArcGIS Raster Datasets
Help:
Has Raster Attribute Table: false
Edit Fields Info: null
Ownership Based AccessControl For Rasters: null
Child Resources:
Info
Statistics
Key Properties
Legend
Raster Function Infos
Supported Operations:
Export Image
Identify
Measure
Compute Histograms
Compute Statistics Histograms
Get Samples
Compute Class Statistics
Query Boundary
Compute Pixel Location
Compute Angles
Validate
Project