View In:
ArcGIS JavaScript
ArcGIS Online Map Viewer
ArcGIS Earth
Service Description: Created as part of the USGS’s Africa Ecosystems Mapping project, the Africa Topographic Moisture Potential layer classifies the landscape of Africa as either uplands or as lowlands and other depressions.This layer provides access to a 100m cell size raster derived from SRTM and other data that divides the African landscape into upland and lowland areas. The data covers Africa, Madagascar, the Comoros Islands, and other coastal Islands near Africa. It was published in 2009 by the USGS Rocky Mountain Geographic Science Center.This layer was used as an input for the Africa Terrestrial Ecosystems mapping project.
Name: Africa/Africa_Topo_Moisture_Potential
Description: Created as part of the USGS’s Africa Ecosystems Mapping project, the Africa Topographic Moisture Potential layer classifies the landscape of Africa as either uplands or as lowlands and other depressions.This layer provides access to a 100m cell size raster derived from SRTM and other data that divides the African landscape into upland and lowland areas. The data covers Africa, Madagascar, the Comoros Islands, and other coastal Islands near Africa. It was published in 2009 by the USGS Rocky Mountain Geographic Science Center.This layer was used as an input for the Africa Terrestrial Ecosystems mapping project.
Single Fused Map Cache: false
Extent:
XMin: -25.3614820573576
YMin: -46.98280564288304
XMax: 63.5026846057545
YMax: 37.542194353735965
Spatial Reference: 4326
(4326)
LatestVCSWkid(0)
Initial Extent:
XMin: -25.3614820573576
YMin: -46.98280564288304
XMax: 63.5026846057545
YMax: 37.542194353735965
Spatial Reference: 4326
(4326)
LatestVCSWkid(0)
Full Extent:
XMin: -25.3614820573576
YMin: -46.98280564288304
XMax: 63.5026846057545
YMax: 37.542194353735965
Spatial Reference: 4326
(4326)
LatestVCSWkid(0)
Pixel Size X: 8.333333333E-4
Pixel Size Y: 8.333333333E-4
Band Count: 3
Pixel Type: U8
RasterFunction Infos: {"rasterFunctionInfos": [{
"name": "None",
"description": "",
"help": ""
}]}
Mensuration Capabilities: Basic
Inspection Capabilities:
Has Histograms: false
Has Colormap: false
Has Multi Dimensions : false
Rendering Rule:
Min Scale: 0
Max Scale: 0
Copyright Text: USGS
Service Data Type: esriImageServiceDataTypeThematic
Min Values: N/A
Max Values: N/A
Mean Values: N/A
Standard Deviation Values: N/A
Object ID Field:
Fields:
None
Default Mosaic Method: Center
Allowed Mosaic Methods:
SortField:
SortValue: null
Mosaic Operator: First
Default Compression Quality: 75
Default Resampling Method: Bilinear
Max Record Count: null
Max Image Height: 4100
Max Image Width: 15000
Max Download Image Count: null
Max Mosaic Image Count: null
Allow Raster Function: true
Allow Copy: true
Allow Analysis: true
Allow Compute TiePoints: false
Supports Statistics: false
Supports Advanced Queries: false
Use StandardizedQueries: true
Raster Type Infos:
Name: Raster Dataset
Description: Supports all ArcGIS Raster Datasets
Help:
Has Raster Attribute Table: false
Edit Fields Info: null
Ownership Based AccessControl For Rasters: null
Child Resources:
Info
Statistics
Key Properties
Legend
Raster Function Infos
Supported Operations:
Export Image
Identify
Measure
Compute Histograms
Compute Statistics Histograms
Get Samples
Compute Class Statistics
Query Boundary
Compute Pixel Location
Compute Angles
Validate
Project