View In:
ArcGIS JavaScript
ArcGIS Online Map Viewer
ArcGIS Earth
Service Description: The Shuttle Radar Topography Mission data at 30meters resolution for South Sudan. Referenced tiles were mosaicked and clipped to the extent of the country
Name: South_Sudan/South_Sudan_SRTM30meters
Description: The Shuttle Radar Topography Mission data at 30meters resolution for South Sudan. Referenced tiles were mosaicked and clipped to the extent of the country
Single Fused Map Cache: false
Extent:
XMin: 24.139861111111113
YMin: 3.492916666666666
XMax: 35.941250000000004
YMax: 12.219027777777777
Spatial Reference: 4326
(4326)
LatestVCSWkid(0)
Initial Extent:
XMin: 24.139861111111113
YMin: 3.492916666666666
XMax: 35.941250000000004
YMax: 12.219027777777777
Spatial Reference: 4326
(4326)
LatestVCSWkid(0)
Full Extent:
XMin: 24.139861111111113
YMin: 3.492916666666666
XMax: 35.941250000000004
YMax: 12.219027777777777
Spatial Reference: 4326
(4326)
LatestVCSWkid(0)
Pixel Size X: 2.7777777777777783E-4
Pixel Size Y: 2.777777777777778E-4
Band Count: 1
Pixel Type: S16
RasterFunction Infos: {"rasterFunctionInfos": [{
"name": "None",
"description": "",
"help": ""
}]}
Mensuration Capabilities: Basic
Inspection Capabilities:
Has Histograms: true
Has Colormap: false
Has Multi Dimensions : false
Rendering Rule:
Min Scale: 0
Max Scale: 0
Copyright Text: SERVIR AFRICA team and NASA
Service Data Type: esriImageServiceDataTypeGeneric
Min Values: 346
Max Values: 3178
Mean Values: 517.32657393677
Standard Deviation Values: 163.88720452431
Object ID Field:
Fields:
None
Default Mosaic Method: Center
Allowed Mosaic Methods:
SortField:
SortValue: null
Mosaic Operator: First
Default Compression Quality: 75
Default Resampling Method: Bilinear
Max Record Count: null
Max Image Height: 4100
Max Image Width: 15000
Max Download Image Count: null
Max Mosaic Image Count: null
Allow Raster Function: true
Allow Copy: true
Allow Analysis: true
Allow Compute TiePoints: false
Supports Statistics: false
Supports Advanced Queries: false
Use StandardizedQueries: true
Raster Type Infos:
Name: Raster Dataset
Description: Supports all ArcGIS Raster Datasets
Help:
Has Raster Attribute Table: false
Edit Fields Info: null
Ownership Based AccessControl For Rasters: null
Child Resources:
Info
Histograms
Statistics
Key Properties
Legend
Raster Function Infos
Supported Operations:
Export Image
Identify
Measure
Compute Histograms
Compute Statistics Histograms
Get Samples
Compute Class Statistics
Query Boundary
Compute Pixel Location
Compute Angles
Validate
Project