View In:
ArcGIS JavaScript
ArcGIS Online Map Viewer
ArcGIS Earth
Service Description: The Shuttle Radar Topography Mission data at 30metres resolution for Uganda. Referenced tiles were mosaicked and clipped to the extent of the country
Name: Uganda/Uganda_SRTM30meters
Description: The Shuttle Radar Topography Mission data at 30metres resolution for Uganda. Referenced tiles were mosaicked and clipped to the extent of the country
Single Fused Map Cache: false
Extent:
XMin: 29.571250000000003
YMin: -1.479027777777774
XMax: 35.000416666666666
YMax: 4.234583333333334
Spatial Reference: 4326
(4326)
LatestVCSWkid(0)
Initial Extent:
XMin: 29.571250000000003
YMin: -1.479027777777774
XMax: 35.000416666666666
YMax: 4.234583333333334
Spatial Reference: 4326
(4326)
LatestVCSWkid(0)
Full Extent:
XMin: 29.571250000000003
YMin: -1.479027777777774
XMax: 35.000416666666666
YMax: 4.234583333333334
Spatial Reference: 4326
(4326)
LatestVCSWkid(0)
Pixel Size X: 2.777777777777776E-4
Pixel Size Y: 2.777777777777776E-4
Band Count: 1
Pixel Type: S16
RasterFunction Infos: {"rasterFunctionInfos": [{
"name": "None",
"description": "",
"help": ""
}]}
Mensuration Capabilities: Basic
Inspection Capabilities:
Has Histograms: true
Has Colormap: false
Has Multi Dimensions : false
Rendering Rule:
Min Scale: 0
Max Scale: 0
Copyright Text: SERVIR AFRICA team and NASA
Service Data Type: esriImageServiceDataTypeGeneric
Min Values: 574
Max Values: 5239
Mean Values: 1155.1317100764
Standard Deviation Values: 284.07771980907
Object ID Field:
Fields:
None
Default Mosaic Method: Center
Allowed Mosaic Methods:
SortField:
SortValue: null
Mosaic Operator: First
Default Compression Quality: 75
Default Resampling Method: Bilinear
Max Record Count: null
Max Image Height: 4100
Max Image Width: 15000
Max Download Image Count: null
Max Mosaic Image Count: null
Allow Raster Function: true
Allow Copy: true
Allow Analysis: true
Allow Compute TiePoints: false
Supports Statistics: false
Supports Advanced Queries: false
Use StandardizedQueries: true
Raster Type Infos:
Name: Raster Dataset
Description: Supports all ArcGIS Raster Datasets
Help:
Has Raster Attribute Table: false
Edit Fields Info: null
Ownership Based AccessControl For Rasters: null
Child Resources:
Info
Histograms
Statistics
Key Properties
Legend
Raster Function Infos
Supported Operations:
Export Image
Identify
Measure
Compute Histograms
Compute Statistics Histograms
Get Samples
Compute Class Statistics
Query Boundary
Compute Pixel Location
Compute Angles
Validate
Project